BEGIN:VCALENDAR
VERSION:2.0
PRODID:-//Mental Health America of Greater Houston - ECPv6.15.14//NONSGML v1.0//EN
CALSCALE:GREGORIAN
METHOD:PUBLISH
X-WR-CALNAME:Mental Health America of Greater Houston
X-ORIGINAL-URL:https://mhahouston.org
X-WR-CALDESC:Events for Mental Health America of Greater Houston
REFRESH-INTERVAL;VALUE=DURATION:PT1H
X-Robots-Tag:noindex
X-PUBLISHED-TTL:PT1H
BEGIN:VTIMEZONE
TZID:UTC
BEGIN:STANDARD
TZOFFSETFROM:+0000
TZOFFSETTO:+0000
TZNAME:UTC
DTSTART:20250101T000000
END:STANDARD
END:VTIMEZONE
BEGIN:VEVENT
DTSTART;TZID=UTC:20260428T170000
DTEND;TZID=UTC:20260428T190000
DTSTAMP:20260424T062229
CREATED:20260204T230442Z
LAST-MODIFIED:20260418T012851Z
UID:10000847-1777395600-1777402800@mhahouston.org
SUMMARY:Advocacy 101 Training
DESCRIPTION:Advocacy 101 is a virtual training offered statewide. It runs approximately 2–2.5 hours and is interactive in nature. The focus is on learning the importance of advocacy and how to leverage lived experience to make change\, including identifying the three forms of advocacy: personal\, community\, and systemic. The goal is for participants to leave feeling ready to advocate.
URL:https://mhahouston.org/event/advocacy-101-training/2026-04-28/
CATEGORIES:Free,Training
ATTACH;FMTTYPE=image/png:https://mhahouston.org/wp-content/uploads/2026/02/Copy-of-Policy-Trainings-2026-Facebook-Post.png
END:VEVENT
BEGIN:VEVENT
DTSTART;TZID=UTC:20260526T170000
DTEND;TZID=UTC:20260526T190000
DTSTAMP:20260424T062229
CREATED:20260204T230442Z
LAST-MODIFIED:20260418T012851Z
UID:10000848-1779814800-1779822000@mhahouston.org
SUMMARY:Advocacy 101 Training
DESCRIPTION:Advocacy 101 is a virtual training offered statewide. It runs approximately 2–2.5 hours and is interactive in nature. The focus is on learning the importance of advocacy and how to leverage lived experience to make change\, including identifying the three forms of advocacy: personal\, community\, and systemic. The goal is for participants to leave feeling ready to advocate.
URL:https://mhahouston.org/event/advocacy-101-training/2026-05-26/
CATEGORIES:Free,Training
ATTACH;FMTTYPE=image/png:https://mhahouston.org/wp-content/uploads/2026/02/Copy-of-Policy-Trainings-2026-Facebook-Post.png
END:VEVENT
BEGIN:VEVENT
DTSTART;TZID=UTC:20260630T170000
DTEND;TZID=UTC:20260630T190000
DTSTAMP:20260424T062229
CREATED:20260204T230442Z
LAST-MODIFIED:20260418T012851Z
UID:10000849-1782838800-1782846000@mhahouston.org
SUMMARY:Advocacy 101 Training
DESCRIPTION:Advocacy 101 is a virtual training offered statewide. It runs approximately 2–2.5 hours and is interactive in nature. The focus is on learning the importance of advocacy and how to leverage lived experience to make change\, including identifying the three forms of advocacy: personal\, community\, and systemic. The goal is for participants to leave feeling ready to advocate.
URL:https://mhahouston.org/event/advocacy-101-training/2026-06-30/
CATEGORIES:Free,Training
ATTACH;FMTTYPE=image/png:https://mhahouston.org/wp-content/uploads/2026/02/Copy-of-Policy-Trainings-2026-Facebook-Post.png
END:VEVENT
END:VCALENDAR