BEGIN:VCALENDAR
VERSION:2.0
PRODID:-//Mental Health America of Greater Houston - ECPv6.15.14//NONSGML v1.0//EN
CALSCALE:GREGORIAN
METHOD:PUBLISH
X-ORIGINAL-URL:https://mhahouston.org
X-WR-CALDESC:Events for Mental Health America of Greater Houston
REFRESH-INTERVAL;VALUE=DURATION:PT1H
X-Robots-Tag:noindex
X-PUBLISHED-TTL:PT1H
BEGIN:VTIMEZONE
TZID:UTC
BEGIN:STANDARD
TZOFFSETFROM:+0000
TZOFFSETTO:+0000
TZNAME:UTC
DTSTART:20250101T000000
END:STANDARD
END:VTIMEZONE
BEGIN:VEVENT
DTSTART;TZID=UTC:20261001T073000
DTEND;TZID=UTC:20261001T074500
DTSTAMP:20260424T160836
CREATED:20250806T151844Z
LAST-MODIFIED:20260219T142307Z
UID:10000559-1790839800-1790840700@mhahouston.org
SUMMARY:Fresh Start: FREE Daily Mindfulness Practice
DESCRIPTION:Each day is an opportunity for a fresh start to live your life fully.  Practicing meditation in community to release unhelpful thoughts and quiet the mind can be strengthened by daily practice.  Join Ann\, Michele and Bela each morning for a 15-minute practice\, which will vary each day\, to make mindfulness part of your life. \n• Monday-Friday: Beginning September 8\, 2025\n• 7:30-7:45 a.m. \nRegistration link: https://www.tfaforms.com/4749944?tfa_1887=a0VPn00000D9KOD&tfa_1910=a0TPn00000qfpbp
URL:https://mhahouston.org/event/fresh-start-free-daily-mindfulness-practice/2026-10-01/
CATEGORIES:Free,Training
ATTACH;FMTTYPE=image/png:https://mhahouston.org/wp-content/uploads/2025/08/free-daily-mindfulness.png
END:VEVENT
BEGIN:VEVENT
DTSTART;TZID=UTC:20261002T073000
DTEND;TZID=UTC:20261002T074500
DTSTAMP:20260424T160836
CREATED:20250806T151844Z
LAST-MODIFIED:20260219T142307Z
UID:10000560-1790926200-1790927100@mhahouston.org
SUMMARY:Fresh Start: FREE Daily Mindfulness Practice
DESCRIPTION:Each day is an opportunity for a fresh start to live your life fully.  Practicing meditation in community to release unhelpful thoughts and quiet the mind can be strengthened by daily practice.  Join Ann\, Michele and Bela each morning for a 15-minute practice\, which will vary each day\, to make mindfulness part of your life. \n• Monday-Friday: Beginning September 8\, 2025\n• 7:30-7:45 a.m. \nRegistration link: https://www.tfaforms.com/4749944?tfa_1887=a0VPn00000D9KOD&tfa_1910=a0TPn00000qfpbp
URL:https://mhahouston.org/event/fresh-start-free-daily-mindfulness-practice/2026-10-02/
CATEGORIES:Free,Training
ATTACH;FMTTYPE=image/png:https://mhahouston.org/wp-content/uploads/2025/08/free-daily-mindfulness.png
END:VEVENT
BEGIN:VEVENT
DTSTART;TZID=UTC:20261002T110000
DTEND;TZID=UTC:20261002T130000
DTSTAMP:20260424T160836
CREATED:20250807T183205Z
LAST-MODIFIED:20250807T183205Z
UID:10000075-1790938800-1790946000@mhahouston.org
SUMMARY:Military Cultural Competency & Veteran Suicide Awareness
DESCRIPTION:This course is structured for volunteers or mentors that serve the veteran population and would like to explore peer and mentor support opportunities. The class provides awareness of the challenges related to military culture and its impact on service members\, veterans\, and their families. \n  \nEmail Edward Howard to register. \nehoward@mhahouston.org
URL:https://mhahouston.org/event/military-cultural-competency-veteran-suicide-awareness/2026-10-02/
LOCATION:Combined Arms\, 2929 McKinney St\, Houston\, TX\, 77407\, United States
CATEGORIES:Free,Training
ATTACH;FMTTYPE=image/png:https://mhahouston.org/wp-content/uploads/2025/08/Untitled-design-42.png
ORGANIZER;CN="Edward Howard":MAILTO:ehoward@mhahouston.org
END:VEVENT
BEGIN:VEVENT
DTSTART;TZID=UTC:20261005T073000
DTEND;TZID=UTC:20261005T074500
DTSTAMP:20260424T160836
CREATED:20250806T151844Z
LAST-MODIFIED:20260219T142307Z
UID:10000561-1791185400-1791186300@mhahouston.org
SUMMARY:Fresh Start: FREE Daily Mindfulness Practice
DESCRIPTION:Each day is an opportunity for a fresh start to live your life fully.  Practicing meditation in community to release unhelpful thoughts and quiet the mind can be strengthened by daily practice.  Join Ann\, Michele and Bela each morning for a 15-minute practice\, which will vary each day\, to make mindfulness part of your life. \n• Monday-Friday: Beginning September 8\, 2025\n• 7:30-7:45 a.m. \nRegistration link: https://www.tfaforms.com/4749944?tfa_1887=a0VPn00000D9KOD&tfa_1910=a0TPn00000qfpbp
URL:https://mhahouston.org/event/fresh-start-free-daily-mindfulness-practice/2026-10-05/
CATEGORIES:Free,Training
ATTACH;FMTTYPE=image/png:https://mhahouston.org/wp-content/uploads/2025/08/free-daily-mindfulness.png
END:VEVENT
BEGIN:VEVENT
DTSTART;TZID=UTC:20261006T073000
DTEND;TZID=UTC:20261006T074500
DTSTAMP:20260424T160836
CREATED:20250806T151844Z
LAST-MODIFIED:20260219T142307Z
UID:10000562-1791271800-1791272700@mhahouston.org
SUMMARY:Fresh Start: FREE Daily Mindfulness Practice
DESCRIPTION:Each day is an opportunity for a fresh start to live your life fully.  Practicing meditation in community to release unhelpful thoughts and quiet the mind can be strengthened by daily practice.  Join Ann\, Michele and Bela each morning for a 15-minute practice\, which will vary each day\, to make mindfulness part of your life. \n• Monday-Friday: Beginning September 8\, 2025\n• 7:30-7:45 a.m. \nRegistration link: https://www.tfaforms.com/4749944?tfa_1887=a0VPn00000D9KOD&tfa_1910=a0TPn00000qfpbp
URL:https://mhahouston.org/event/fresh-start-free-daily-mindfulness-practice/2026-10-06/
CATEGORIES:Free,Training
ATTACH;FMTTYPE=image/png:https://mhahouston.org/wp-content/uploads/2025/08/free-daily-mindfulness.png
END:VEVENT
BEGIN:VEVENT
DTSTART;TZID=UTC:20261007T073000
DTEND;TZID=UTC:20261007T074500
DTSTAMP:20260424T160836
CREATED:20250806T151844Z
LAST-MODIFIED:20260219T142307Z
UID:10000563-1791358200-1791359100@mhahouston.org
SUMMARY:Fresh Start: FREE Daily Mindfulness Practice
DESCRIPTION:Each day is an opportunity for a fresh start to live your life fully.  Practicing meditation in community to release unhelpful thoughts and quiet the mind can be strengthened by daily practice.  Join Ann\, Michele and Bela each morning for a 15-minute practice\, which will vary each day\, to make mindfulness part of your life. \n• Monday-Friday: Beginning September 8\, 2025\n• 7:30-7:45 a.m. \nRegistration link: https://www.tfaforms.com/4749944?tfa_1887=a0VPn00000D9KOD&tfa_1910=a0TPn00000qfpbp
URL:https://mhahouston.org/event/fresh-start-free-daily-mindfulness-practice/2026-10-07/
CATEGORIES:Free,Training
ATTACH;FMTTYPE=image/png:https://mhahouston.org/wp-content/uploads/2025/08/free-daily-mindfulness.png
END:VEVENT
BEGIN:VEVENT
DTSTART;TZID=UTC:20261008T073000
DTEND;TZID=UTC:20261008T074500
DTSTAMP:20260424T160836
CREATED:20250806T151844Z
LAST-MODIFIED:20260219T142307Z
UID:10000564-1791444600-1791445500@mhahouston.org
SUMMARY:Fresh Start: FREE Daily Mindfulness Practice
DESCRIPTION:Each day is an opportunity for a fresh start to live your life fully.  Practicing meditation in community to release unhelpful thoughts and quiet the mind can be strengthened by daily practice.  Join Ann\, Michele and Bela each morning for a 15-minute practice\, which will vary each day\, to make mindfulness part of your life. \n• Monday-Friday: Beginning September 8\, 2025\n• 7:30-7:45 a.m. \nRegistration link: https://www.tfaforms.com/4749944?tfa_1887=a0VPn00000D9KOD&tfa_1910=a0TPn00000qfpbp
URL:https://mhahouston.org/event/fresh-start-free-daily-mindfulness-practice/2026-10-08/
CATEGORIES:Free,Training
ATTACH;FMTTYPE=image/png:https://mhahouston.org/wp-content/uploads/2025/08/free-daily-mindfulness.png
END:VEVENT
BEGIN:VEVENT
DTSTART;TZID=UTC:20261009T073000
DTEND;TZID=UTC:20261009T074500
DTSTAMP:20260424T160836
CREATED:20250806T151844Z
LAST-MODIFIED:20260219T142307Z
UID:10000565-1791531000-1791531900@mhahouston.org
SUMMARY:Fresh Start: FREE Daily Mindfulness Practice
DESCRIPTION:Each day is an opportunity for a fresh start to live your life fully.  Practicing meditation in community to release unhelpful thoughts and quiet the mind can be strengthened by daily practice.  Join Ann\, Michele and Bela each morning for a 15-minute practice\, which will vary each day\, to make mindfulness part of your life. \n• Monday-Friday: Beginning September 8\, 2025\n• 7:30-7:45 a.m. \nRegistration link: https://www.tfaforms.com/4749944?tfa_1887=a0VPn00000D9KOD&tfa_1910=a0TPn00000qfpbp
URL:https://mhahouston.org/event/fresh-start-free-daily-mindfulness-practice/2026-10-09/
CATEGORIES:Free,Training
ATTACH;FMTTYPE=image/png:https://mhahouston.org/wp-content/uploads/2025/08/free-daily-mindfulness.png
END:VEVENT
BEGIN:VEVENT
DTSTART;TZID=UTC:20261009T110000
DTEND;TZID=UTC:20261009T130000
DTSTAMP:20260424T160836
CREATED:20250807T183205Z
LAST-MODIFIED:20250807T183205Z
UID:10000076-1791543600-1791550800@mhahouston.org
SUMMARY:Military Cultural Competency & Veteran Suicide Awareness
DESCRIPTION:This course is structured for volunteers or mentors that serve the veteran population and would like to explore peer and mentor support opportunities. The class provides awareness of the challenges related to military culture and its impact on service members\, veterans\, and their families. \n  \nEmail Edward Howard to register. \nehoward@mhahouston.org
URL:https://mhahouston.org/event/military-cultural-competency-veteran-suicide-awareness/2026-10-09/
LOCATION:Combined Arms\, 2929 McKinney St\, Houston\, TX\, 77407\, United States
CATEGORIES:Free,Training
ATTACH;FMTTYPE=image/png:https://mhahouston.org/wp-content/uploads/2025/08/Untitled-design-42.png
ORGANIZER;CN="Edward Howard":MAILTO:ehoward@mhahouston.org
END:VEVENT
BEGIN:VEVENT
DTSTART;TZID=UTC:20261012T073000
DTEND;TZID=UTC:20261012T074500
DTSTAMP:20260424T160836
CREATED:20250806T151844Z
LAST-MODIFIED:20260219T142307Z
UID:10000566-1791790200-1791791100@mhahouston.org
SUMMARY:Fresh Start: FREE Daily Mindfulness Practice
DESCRIPTION:Each day is an opportunity for a fresh start to live your life fully.  Practicing meditation in community to release unhelpful thoughts and quiet the mind can be strengthened by daily practice.  Join Ann\, Michele and Bela each morning for a 15-minute practice\, which will vary each day\, to make mindfulness part of your life. \n• Monday-Friday: Beginning September 8\, 2025\n• 7:30-7:45 a.m. \nRegistration link: https://www.tfaforms.com/4749944?tfa_1887=a0VPn00000D9KOD&tfa_1910=a0TPn00000qfpbp
URL:https://mhahouston.org/event/fresh-start-free-daily-mindfulness-practice/2026-10-12/
CATEGORIES:Free,Training
ATTACH;FMTTYPE=image/png:https://mhahouston.org/wp-content/uploads/2025/08/free-daily-mindfulness.png
END:VEVENT
BEGIN:VEVENT
DTSTART;TZID=UTC:20261013T073000
DTEND;TZID=UTC:20261013T074500
DTSTAMP:20260424T160836
CREATED:20250806T151844Z
LAST-MODIFIED:20260219T142307Z
UID:10000567-1791876600-1791877500@mhahouston.org
SUMMARY:Fresh Start: FREE Daily Mindfulness Practice
DESCRIPTION:Each day is an opportunity for a fresh start to live your life fully.  Practicing meditation in community to release unhelpful thoughts and quiet the mind can be strengthened by daily practice.  Join Ann\, Michele and Bela each morning for a 15-minute practice\, which will vary each day\, to make mindfulness part of your life. \n• Monday-Friday: Beginning September 8\, 2025\n• 7:30-7:45 a.m. \nRegistration link: https://www.tfaforms.com/4749944?tfa_1887=a0VPn00000D9KOD&tfa_1910=a0TPn00000qfpbp
URL:https://mhahouston.org/event/fresh-start-free-daily-mindfulness-practice/2026-10-13/
CATEGORIES:Free,Training
ATTACH;FMTTYPE=image/png:https://mhahouston.org/wp-content/uploads/2025/08/free-daily-mindfulness.png
END:VEVENT
BEGIN:VEVENT
DTSTART;TZID=UTC:20261014T073000
DTEND;TZID=UTC:20261014T074500
DTSTAMP:20260424T160836
CREATED:20250806T151844Z
LAST-MODIFIED:20260219T142307Z
UID:10000568-1791963000-1791963900@mhahouston.org
SUMMARY:Fresh Start: FREE Daily Mindfulness Practice
DESCRIPTION:Each day is an opportunity for a fresh start to live your life fully.  Practicing meditation in community to release unhelpful thoughts and quiet the mind can be strengthened by daily practice.  Join Ann\, Michele and Bela each morning for a 15-minute practice\, which will vary each day\, to make mindfulness part of your life. \n• Monday-Friday: Beginning September 8\, 2025\n• 7:30-7:45 a.m. \nRegistration link: https://www.tfaforms.com/4749944?tfa_1887=a0VPn00000D9KOD&tfa_1910=a0TPn00000qfpbp
URL:https://mhahouston.org/event/fresh-start-free-daily-mindfulness-practice/2026-10-14/
CATEGORIES:Free,Training
ATTACH;FMTTYPE=image/png:https://mhahouston.org/wp-content/uploads/2025/08/free-daily-mindfulness.png
END:VEVENT
BEGIN:VEVENT
DTSTART;TZID=UTC:20261015T073000
DTEND;TZID=UTC:20261015T074500
DTSTAMP:20260424T160836
CREATED:20250806T151844Z
LAST-MODIFIED:20260219T142307Z
UID:10000569-1792049400-1792050300@mhahouston.org
SUMMARY:Fresh Start: FREE Daily Mindfulness Practice
DESCRIPTION:Each day is an opportunity for a fresh start to live your life fully.  Practicing meditation in community to release unhelpful thoughts and quiet the mind can be strengthened by daily practice.  Join Ann\, Michele and Bela each morning for a 15-minute practice\, which will vary each day\, to make mindfulness part of your life. \n• Monday-Friday: Beginning September 8\, 2025\n• 7:30-7:45 a.m. \nRegistration link: https://www.tfaforms.com/4749944?tfa_1887=a0VPn00000D9KOD&tfa_1910=a0TPn00000qfpbp
URL:https://mhahouston.org/event/fresh-start-free-daily-mindfulness-practice/2026-10-15/
CATEGORIES:Free,Training
ATTACH;FMTTYPE=image/png:https://mhahouston.org/wp-content/uploads/2025/08/free-daily-mindfulness.png
END:VEVENT
BEGIN:VEVENT
DTSTART;TZID=UTC:20261016T073000
DTEND;TZID=UTC:20261016T074500
DTSTAMP:20260424T160836
CREATED:20250806T151844Z
LAST-MODIFIED:20260219T142307Z
UID:10000570-1792135800-1792136700@mhahouston.org
SUMMARY:Fresh Start: FREE Daily Mindfulness Practice
DESCRIPTION:Each day is an opportunity for a fresh start to live your life fully.  Practicing meditation in community to release unhelpful thoughts and quiet the mind can be strengthened by daily practice.  Join Ann\, Michele and Bela each morning for a 15-minute practice\, which will vary each day\, to make mindfulness part of your life. \n• Monday-Friday: Beginning September 8\, 2025\n• 7:30-7:45 a.m. \nRegistration link: https://www.tfaforms.com/4749944?tfa_1887=a0VPn00000D9KOD&tfa_1910=a0TPn00000qfpbp
URL:https://mhahouston.org/event/fresh-start-free-daily-mindfulness-practice/2026-10-16/
CATEGORIES:Free,Training
ATTACH;FMTTYPE=image/png:https://mhahouston.org/wp-content/uploads/2025/08/free-daily-mindfulness.png
END:VEVENT
BEGIN:VEVENT
DTSTART;TZID=UTC:20261016T110000
DTEND;TZID=UTC:20261016T130000
DTSTAMP:20260424T160836
CREATED:20250807T183205Z
LAST-MODIFIED:20250807T183205Z
UID:10000077-1792148400-1792155600@mhahouston.org
SUMMARY:Military Cultural Competency & Veteran Suicide Awareness
DESCRIPTION:This course is structured for volunteers or mentors that serve the veteran population and would like to explore peer and mentor support opportunities. The class provides awareness of the challenges related to military culture and its impact on service members\, veterans\, and their families. \n  \nEmail Edward Howard to register. \nehoward@mhahouston.org
URL:https://mhahouston.org/event/military-cultural-competency-veteran-suicide-awareness/2026-10-16/
LOCATION:Combined Arms\, 2929 McKinney St\, Houston\, TX\, 77407\, United States
CATEGORIES:Free,Training
ATTACH;FMTTYPE=image/png:https://mhahouston.org/wp-content/uploads/2025/08/Untitled-design-42.png
ORGANIZER;CN="Edward Howard":MAILTO:ehoward@mhahouston.org
END:VEVENT
BEGIN:VEVENT
DTSTART;TZID=UTC:20261019T073000
DTEND;TZID=UTC:20261019T074500
DTSTAMP:20260424T160836
CREATED:20250806T151844Z
LAST-MODIFIED:20260219T142307Z
UID:10000571-1792395000-1792395900@mhahouston.org
SUMMARY:Fresh Start: FREE Daily Mindfulness Practice
DESCRIPTION:Each day is an opportunity for a fresh start to live your life fully.  Practicing meditation in community to release unhelpful thoughts and quiet the mind can be strengthened by daily practice.  Join Ann\, Michele and Bela each morning for a 15-minute practice\, which will vary each day\, to make mindfulness part of your life. \n• Monday-Friday: Beginning September 8\, 2025\n• 7:30-7:45 a.m. \nRegistration link: https://www.tfaforms.com/4749944?tfa_1887=a0VPn00000D9KOD&tfa_1910=a0TPn00000qfpbp
URL:https://mhahouston.org/event/fresh-start-free-daily-mindfulness-practice/2026-10-19/
CATEGORIES:Free,Training
ATTACH;FMTTYPE=image/png:https://mhahouston.org/wp-content/uploads/2025/08/free-daily-mindfulness.png
END:VEVENT
BEGIN:VEVENT
DTSTART;TZID=UTC:20261020T073000
DTEND;TZID=UTC:20261020T074500
DTSTAMP:20260424T160836
CREATED:20250806T151844Z
LAST-MODIFIED:20260219T142307Z
UID:10000572-1792481400-1792482300@mhahouston.org
SUMMARY:Fresh Start: FREE Daily Mindfulness Practice
DESCRIPTION:Each day is an opportunity for a fresh start to live your life fully.  Practicing meditation in community to release unhelpful thoughts and quiet the mind can be strengthened by daily practice.  Join Ann\, Michele and Bela each morning for a 15-minute practice\, which will vary each day\, to make mindfulness part of your life. \n• Monday-Friday: Beginning September 8\, 2025\n• 7:30-7:45 a.m. \nRegistration link: https://www.tfaforms.com/4749944?tfa_1887=a0VPn00000D9KOD&tfa_1910=a0TPn00000qfpbp
URL:https://mhahouston.org/event/fresh-start-free-daily-mindfulness-practice/2026-10-20/
CATEGORIES:Free,Training
ATTACH;FMTTYPE=image/png:https://mhahouston.org/wp-content/uploads/2025/08/free-daily-mindfulness.png
END:VEVENT
BEGIN:VEVENT
DTSTART;TZID=UTC:20261021T073000
DTEND;TZID=UTC:20261021T074500
DTSTAMP:20260424T160836
CREATED:20250806T151844Z
LAST-MODIFIED:20260219T142307Z
UID:10000573-1792567800-1792568700@mhahouston.org
SUMMARY:Fresh Start: FREE Daily Mindfulness Practice
DESCRIPTION:Each day is an opportunity for a fresh start to live your life fully.  Practicing meditation in community to release unhelpful thoughts and quiet the mind can be strengthened by daily practice.  Join Ann\, Michele and Bela each morning for a 15-minute practice\, which will vary each day\, to make mindfulness part of your life. \n• Monday-Friday: Beginning September 8\, 2025\n• 7:30-7:45 a.m. \nRegistration link: https://www.tfaforms.com/4749944?tfa_1887=a0VPn00000D9KOD&tfa_1910=a0TPn00000qfpbp
URL:https://mhahouston.org/event/fresh-start-free-daily-mindfulness-practice/2026-10-21/
CATEGORIES:Free,Training
ATTACH;FMTTYPE=image/png:https://mhahouston.org/wp-content/uploads/2025/08/free-daily-mindfulness.png
END:VEVENT
BEGIN:VEVENT
DTSTART;TZID=UTC:20261022T073000
DTEND;TZID=UTC:20261022T074500
DTSTAMP:20260424T160836
CREATED:20250806T151844Z
LAST-MODIFIED:20260219T142307Z
UID:10000574-1792654200-1792655100@mhahouston.org
SUMMARY:Fresh Start: FREE Daily Mindfulness Practice
DESCRIPTION:Each day is an opportunity for a fresh start to live your life fully.  Practicing meditation in community to release unhelpful thoughts and quiet the mind can be strengthened by daily practice.  Join Ann\, Michele and Bela each morning for a 15-minute practice\, which will vary each day\, to make mindfulness part of your life. \n• Monday-Friday: Beginning September 8\, 2025\n• 7:30-7:45 a.m. \nRegistration link: https://www.tfaforms.com/4749944?tfa_1887=a0VPn00000D9KOD&tfa_1910=a0TPn00000qfpbp
URL:https://mhahouston.org/event/fresh-start-free-daily-mindfulness-practice/2026-10-22/
CATEGORIES:Free,Training
ATTACH;FMTTYPE=image/png:https://mhahouston.org/wp-content/uploads/2025/08/free-daily-mindfulness.png
END:VEVENT
BEGIN:VEVENT
DTSTART;TZID=UTC:20261023T073000
DTEND;TZID=UTC:20261023T074500
DTSTAMP:20260424T160836
CREATED:20250806T151844Z
LAST-MODIFIED:20260219T142307Z
UID:10000575-1792740600-1792741500@mhahouston.org
SUMMARY:Fresh Start: FREE Daily Mindfulness Practice
DESCRIPTION:Each day is an opportunity for a fresh start to live your life fully.  Practicing meditation in community to release unhelpful thoughts and quiet the mind can be strengthened by daily practice.  Join Ann\, Michele and Bela each morning for a 15-minute practice\, which will vary each day\, to make mindfulness part of your life. \n• Monday-Friday: Beginning September 8\, 2025\n• 7:30-7:45 a.m. \nRegistration link: https://www.tfaforms.com/4749944?tfa_1887=a0VPn00000D9KOD&tfa_1910=a0TPn00000qfpbp
URL:https://mhahouston.org/event/fresh-start-free-daily-mindfulness-practice/2026-10-23/
CATEGORIES:Free,Training
ATTACH;FMTTYPE=image/png:https://mhahouston.org/wp-content/uploads/2025/08/free-daily-mindfulness.png
END:VEVENT
BEGIN:VEVENT
DTSTART;TZID=UTC:20261023T110000
DTEND;TZID=UTC:20261023T130000
DTSTAMP:20260424T160836
CREATED:20250807T183205Z
LAST-MODIFIED:20250807T183205Z
UID:10000078-1792753200-1792760400@mhahouston.org
SUMMARY:Military Cultural Competency & Veteran Suicide Awareness
DESCRIPTION:This course is structured for volunteers or mentors that serve the veteran population and would like to explore peer and mentor support opportunities. The class provides awareness of the challenges related to military culture and its impact on service members\, veterans\, and their families. \n  \nEmail Edward Howard to register. \nehoward@mhahouston.org
URL:https://mhahouston.org/event/military-cultural-competency-veteran-suicide-awareness/2026-10-23/
LOCATION:Combined Arms\, 2929 McKinney St\, Houston\, TX\, 77407\, United States
CATEGORIES:Free,Training
ATTACH;FMTTYPE=image/png:https://mhahouston.org/wp-content/uploads/2025/08/Untitled-design-42.png
ORGANIZER;CN="Edward Howard":MAILTO:ehoward@mhahouston.org
END:VEVENT
BEGIN:VEVENT
DTSTART;TZID=UTC:20261026T073000
DTEND;TZID=UTC:20261026T074500
DTSTAMP:20260424T160836
CREATED:20250806T151844Z
LAST-MODIFIED:20260219T142307Z
UID:10000576-1792999800-1793000700@mhahouston.org
SUMMARY:Fresh Start: FREE Daily Mindfulness Practice
DESCRIPTION:Each day is an opportunity for a fresh start to live your life fully.  Practicing meditation in community to release unhelpful thoughts and quiet the mind can be strengthened by daily practice.  Join Ann\, Michele and Bela each morning for a 15-minute practice\, which will vary each day\, to make mindfulness part of your life. \n• Monday-Friday: Beginning September 8\, 2025\n• 7:30-7:45 a.m. \nRegistration link: https://www.tfaforms.com/4749944?tfa_1887=a0VPn00000D9KOD&tfa_1910=a0TPn00000qfpbp
URL:https://mhahouston.org/event/fresh-start-free-daily-mindfulness-practice/2026-10-26/
CATEGORIES:Free,Training
ATTACH;FMTTYPE=image/png:https://mhahouston.org/wp-content/uploads/2025/08/free-daily-mindfulness.png
END:VEVENT
BEGIN:VEVENT
DTSTART;TZID=UTC:20261027T073000
DTEND;TZID=UTC:20261027T074500
DTSTAMP:20260424T160836
CREATED:20250806T151844Z
LAST-MODIFIED:20260219T142307Z
UID:10000577-1793086200-1793087100@mhahouston.org
SUMMARY:Fresh Start: FREE Daily Mindfulness Practice
DESCRIPTION:Each day is an opportunity for a fresh start to live your life fully.  Practicing meditation in community to release unhelpful thoughts and quiet the mind can be strengthened by daily practice.  Join Ann\, Michele and Bela each morning for a 15-minute practice\, which will vary each day\, to make mindfulness part of your life. \n• Monday-Friday: Beginning September 8\, 2025\n• 7:30-7:45 a.m. \nRegistration link: https://www.tfaforms.com/4749944?tfa_1887=a0VPn00000D9KOD&tfa_1910=a0TPn00000qfpbp
URL:https://mhahouston.org/event/fresh-start-free-daily-mindfulness-practice/2026-10-27/
CATEGORIES:Free,Training
ATTACH;FMTTYPE=image/png:https://mhahouston.org/wp-content/uploads/2025/08/free-daily-mindfulness.png
END:VEVENT
BEGIN:VEVENT
DTSTART;TZID=UTC:20261028T073000
DTEND;TZID=UTC:20261028T074500
DTSTAMP:20260424T160836
CREATED:20250806T151844Z
LAST-MODIFIED:20260219T142307Z
UID:10000578-1793172600-1793173500@mhahouston.org
SUMMARY:Fresh Start: FREE Daily Mindfulness Practice
DESCRIPTION:Each day is an opportunity for a fresh start to live your life fully.  Practicing meditation in community to release unhelpful thoughts and quiet the mind can be strengthened by daily practice.  Join Ann\, Michele and Bela each morning for a 15-minute practice\, which will vary each day\, to make mindfulness part of your life. \n• Monday-Friday: Beginning September 8\, 2025\n• 7:30-7:45 a.m. \nRegistration link: https://www.tfaforms.com/4749944?tfa_1887=a0VPn00000D9KOD&tfa_1910=a0TPn00000qfpbp
URL:https://mhahouston.org/event/fresh-start-free-daily-mindfulness-practice/2026-10-28/
CATEGORIES:Free,Training
ATTACH;FMTTYPE=image/png:https://mhahouston.org/wp-content/uploads/2025/08/free-daily-mindfulness.png
END:VEVENT
BEGIN:VEVENT
DTSTART;TZID=UTC:20261029T073000
DTEND;TZID=UTC:20261029T074500
DTSTAMP:20260424T160836
CREATED:20250806T151844Z
LAST-MODIFIED:20260219T142307Z
UID:10000579-1793259000-1793259900@mhahouston.org
SUMMARY:Fresh Start: FREE Daily Mindfulness Practice
DESCRIPTION:Each day is an opportunity for a fresh start to live your life fully.  Practicing meditation in community to release unhelpful thoughts and quiet the mind can be strengthened by daily practice.  Join Ann\, Michele and Bela each morning for a 15-minute practice\, which will vary each day\, to make mindfulness part of your life. \n• Monday-Friday: Beginning September 8\, 2025\n• 7:30-7:45 a.m. \nRegistration link: https://www.tfaforms.com/4749944?tfa_1887=a0VPn00000D9KOD&tfa_1910=a0TPn00000qfpbp
URL:https://mhahouston.org/event/fresh-start-free-daily-mindfulness-practice/2026-10-29/
CATEGORIES:Free,Training
ATTACH;FMTTYPE=image/png:https://mhahouston.org/wp-content/uploads/2025/08/free-daily-mindfulness.png
END:VEVENT
BEGIN:VEVENT
DTSTART;TZID=UTC:20261030T073000
DTEND;TZID=UTC:20261030T074500
DTSTAMP:20260424T160836
CREATED:20250806T151844Z
LAST-MODIFIED:20260219T142307Z
UID:10000580-1793345400-1793346300@mhahouston.org
SUMMARY:Fresh Start: FREE Daily Mindfulness Practice
DESCRIPTION:Each day is an opportunity for a fresh start to live your life fully.  Practicing meditation in community to release unhelpful thoughts and quiet the mind can be strengthened by daily practice.  Join Ann\, Michele and Bela each morning for a 15-minute practice\, which will vary each day\, to make mindfulness part of your life. \n• Monday-Friday: Beginning September 8\, 2025\n• 7:30-7:45 a.m. \nRegistration link: https://www.tfaforms.com/4749944?tfa_1887=a0VPn00000D9KOD&tfa_1910=a0TPn00000qfpbp
URL:https://mhahouston.org/event/fresh-start-free-daily-mindfulness-practice/2026-10-30/
CATEGORIES:Free,Training
ATTACH;FMTTYPE=image/png:https://mhahouston.org/wp-content/uploads/2025/08/free-daily-mindfulness.png
END:VEVENT
BEGIN:VEVENT
DTSTART;TZID=UTC:20261030T110000
DTEND;TZID=UTC:20261030T130000
DTSTAMP:20260424T160836
CREATED:20250807T183205Z
LAST-MODIFIED:20250807T183205Z
UID:10000079-1793358000-1793365200@mhahouston.org
SUMMARY:Military Cultural Competency & Veteran Suicide Awareness
DESCRIPTION:This course is structured for volunteers or mentors that serve the veteran population and would like to explore peer and mentor support opportunities. The class provides awareness of the challenges related to military culture and its impact on service members\, veterans\, and their families. \n  \nEmail Edward Howard to register. \nehoward@mhahouston.org
URL:https://mhahouston.org/event/military-cultural-competency-veteran-suicide-awareness/2026-10-30/
LOCATION:Combined Arms\, 2929 McKinney St\, Houston\, TX\, 77407\, United States
CATEGORIES:Free,Training
ATTACH;FMTTYPE=image/png:https://mhahouston.org/wp-content/uploads/2025/08/Untitled-design-42.png
ORGANIZER;CN="Edward Howard":MAILTO:ehoward@mhahouston.org
END:VEVENT
END:VCALENDAR