BEGIN:VCALENDAR
VERSION:2.0
PRODID:-//Mental Health America of Greater Houston - ECPv6.15.14//NONSGML v1.0//EN
CALSCALE:GREGORIAN
METHOD:PUBLISH
X-ORIGINAL-URL:https://mhahouston.org
X-WR-CALDESC:Events for Mental Health America of Greater Houston
REFRESH-INTERVAL;VALUE=DURATION:PT1H
X-Robots-Tag:noindex
X-PUBLISHED-TTL:PT1H
BEGIN:VTIMEZONE
TZID:UTC
BEGIN:STANDARD
TZOFFSETFROM:+0000
TZOFFSETTO:+0000
TZNAME:UTC
DTSTART:20250101T000000
END:STANDARD
END:VTIMEZONE
BEGIN:VEVENT
DTSTART;TZID=UTC:20260901T073000
DTEND;TZID=UTC:20260901T074500
DTSTAMP:20260424T143647
CREATED:20250806T151844Z
LAST-MODIFIED:20260219T142307Z
UID:10000537-1788247800-1788248700@mhahouston.org
SUMMARY:Fresh Start: FREE Daily Mindfulness Practice
DESCRIPTION:Each day is an opportunity for a fresh start to live your life fully.  Practicing meditation in community to release unhelpful thoughts and quiet the mind can be strengthened by daily practice.  Join Ann\, Michele and Bela each morning for a 15-minute practice\, which will vary each day\, to make mindfulness part of your life. \n• Monday-Friday: Beginning September 8\, 2025\n• 7:30-7:45 a.m. \nRegistration link: https://www.tfaforms.com/4749944?tfa_1887=a0VPn00000D9KOD&tfa_1910=a0TPn00000qfpbp
URL:https://mhahouston.org/event/fresh-start-free-daily-mindfulness-practice/2026-09-01/
CATEGORIES:Free,Training
ATTACH;FMTTYPE=image/png:https://mhahouston.org/wp-content/uploads/2025/08/free-daily-mindfulness.png
END:VEVENT
BEGIN:VEVENT
DTSTART;TZID=UTC:20260902T073000
DTEND;TZID=UTC:20260902T074500
DTSTAMP:20260424T143647
CREATED:20250806T151844Z
LAST-MODIFIED:20260219T142307Z
UID:10000538-1788334200-1788335100@mhahouston.org
SUMMARY:Fresh Start: FREE Daily Mindfulness Practice
DESCRIPTION:Each day is an opportunity for a fresh start to live your life fully.  Practicing meditation in community to release unhelpful thoughts and quiet the mind can be strengthened by daily practice.  Join Ann\, Michele and Bela each morning for a 15-minute practice\, which will vary each day\, to make mindfulness part of your life. \n• Monday-Friday: Beginning September 8\, 2025\n• 7:30-7:45 a.m. \nRegistration link: https://www.tfaforms.com/4749944?tfa_1887=a0VPn00000D9KOD&tfa_1910=a0TPn00000qfpbp
URL:https://mhahouston.org/event/fresh-start-free-daily-mindfulness-practice/2026-09-02/
CATEGORIES:Free,Training
ATTACH;FMTTYPE=image/png:https://mhahouston.org/wp-content/uploads/2025/08/free-daily-mindfulness.png
END:VEVENT
BEGIN:VEVENT
DTSTART;TZID=UTC:20260903T073000
DTEND;TZID=UTC:20260903T074500
DTSTAMP:20260424T143647
CREATED:20250806T151844Z
LAST-MODIFIED:20260219T142307Z
UID:10000539-1788420600-1788421500@mhahouston.org
SUMMARY:Fresh Start: FREE Daily Mindfulness Practice
DESCRIPTION:Each day is an opportunity for a fresh start to live your life fully.  Practicing meditation in community to release unhelpful thoughts and quiet the mind can be strengthened by daily practice.  Join Ann\, Michele and Bela each morning for a 15-minute practice\, which will vary each day\, to make mindfulness part of your life. \n• Monday-Friday: Beginning September 8\, 2025\n• 7:30-7:45 a.m. \nRegistration link: https://www.tfaforms.com/4749944?tfa_1887=a0VPn00000D9KOD&tfa_1910=a0TPn00000qfpbp
URL:https://mhahouston.org/event/fresh-start-free-daily-mindfulness-practice/2026-09-03/
CATEGORIES:Free,Training
ATTACH;FMTTYPE=image/png:https://mhahouston.org/wp-content/uploads/2025/08/free-daily-mindfulness.png
END:VEVENT
BEGIN:VEVENT
DTSTART;TZID=UTC:20260904T073000
DTEND;TZID=UTC:20260904T074500
DTSTAMP:20260424T143647
CREATED:20250806T151844Z
LAST-MODIFIED:20260219T142307Z
UID:10000540-1788507000-1788507900@mhahouston.org
SUMMARY:Fresh Start: FREE Daily Mindfulness Practice
DESCRIPTION:Each day is an opportunity for a fresh start to live your life fully.  Practicing meditation in community to release unhelpful thoughts and quiet the mind can be strengthened by daily practice.  Join Ann\, Michele and Bela each morning for a 15-minute practice\, which will vary each day\, to make mindfulness part of your life. \n• Monday-Friday: Beginning September 8\, 2025\n• 7:30-7:45 a.m. \nRegistration link: https://www.tfaforms.com/4749944?tfa_1887=a0VPn00000D9KOD&tfa_1910=a0TPn00000qfpbp
URL:https://mhahouston.org/event/fresh-start-free-daily-mindfulness-practice/2026-09-04/
CATEGORIES:Free,Training
ATTACH;FMTTYPE=image/png:https://mhahouston.org/wp-content/uploads/2025/08/free-daily-mindfulness.png
END:VEVENT
BEGIN:VEVENT
DTSTART;TZID=UTC:20260904T110000
DTEND;TZID=UTC:20260904T130000
DTSTAMP:20260424T143647
CREATED:20250807T183205Z
LAST-MODIFIED:20250807T183205Z
UID:10000071-1788519600-1788526800@mhahouston.org
SUMMARY:Military Cultural Competency & Veteran Suicide Awareness
DESCRIPTION:This course is structured for volunteers or mentors that serve the veteran population and would like to explore peer and mentor support opportunities. The class provides awareness of the challenges related to military culture and its impact on service members\, veterans\, and their families. \n  \nEmail Edward Howard to register. \nehoward@mhahouston.org
URL:https://mhahouston.org/event/military-cultural-competency-veteran-suicide-awareness/2026-09-04/
LOCATION:Combined Arms\, 2929 McKinney St\, Houston\, TX\, 77407\, United States
CATEGORIES:Free,Training
ATTACH;FMTTYPE=image/png:https://mhahouston.org/wp-content/uploads/2025/08/Untitled-design-42.png
ORGANIZER;CN="Edward Howard":MAILTO:ehoward@mhahouston.org
END:VEVENT
BEGIN:VEVENT
DTSTART;TZID=UTC:20260907T073000
DTEND;TZID=UTC:20260907T074500
DTSTAMP:20260424T143647
CREATED:20250806T151844Z
LAST-MODIFIED:20260219T142307Z
UID:10000541-1788766200-1788767100@mhahouston.org
SUMMARY:Fresh Start: FREE Daily Mindfulness Practice
DESCRIPTION:Each day is an opportunity for a fresh start to live your life fully.  Practicing meditation in community to release unhelpful thoughts and quiet the mind can be strengthened by daily practice.  Join Ann\, Michele and Bela each morning for a 15-minute practice\, which will vary each day\, to make mindfulness part of your life. \n• Monday-Friday: Beginning September 8\, 2025\n• 7:30-7:45 a.m. \nRegistration link: https://www.tfaforms.com/4749944?tfa_1887=a0VPn00000D9KOD&tfa_1910=a0TPn00000qfpbp
URL:https://mhahouston.org/event/fresh-start-free-daily-mindfulness-practice/2026-09-07/
CATEGORIES:Free,Training
ATTACH;FMTTYPE=image/png:https://mhahouston.org/wp-content/uploads/2025/08/free-daily-mindfulness.png
END:VEVENT
BEGIN:VEVENT
DTSTART;TZID=UTC:20260908T073000
DTEND;TZID=UTC:20260908T074500
DTSTAMP:20260424T143647
CREATED:20250806T151844Z
LAST-MODIFIED:20260219T142307Z
UID:10000542-1788852600-1788853500@mhahouston.org
SUMMARY:Fresh Start: FREE Daily Mindfulness Practice
DESCRIPTION:Each day is an opportunity for a fresh start to live your life fully.  Practicing meditation in community to release unhelpful thoughts and quiet the mind can be strengthened by daily practice.  Join Ann\, Michele and Bela each morning for a 15-minute practice\, which will vary each day\, to make mindfulness part of your life. \n• Monday-Friday: Beginning September 8\, 2025\n• 7:30-7:45 a.m. \nRegistration link: https://www.tfaforms.com/4749944?tfa_1887=a0VPn00000D9KOD&tfa_1910=a0TPn00000qfpbp
URL:https://mhahouston.org/event/fresh-start-free-daily-mindfulness-practice/2026-09-08/
CATEGORIES:Free,Training
ATTACH;FMTTYPE=image/png:https://mhahouston.org/wp-content/uploads/2025/08/free-daily-mindfulness.png
END:VEVENT
BEGIN:VEVENT
DTSTART;TZID=UTC:20260909T073000
DTEND;TZID=UTC:20260909T074500
DTSTAMP:20260424T143647
CREATED:20250806T151844Z
LAST-MODIFIED:20260219T142307Z
UID:10000543-1788939000-1788939900@mhahouston.org
SUMMARY:Fresh Start: FREE Daily Mindfulness Practice
DESCRIPTION:Each day is an opportunity for a fresh start to live your life fully.  Practicing meditation in community to release unhelpful thoughts and quiet the mind can be strengthened by daily practice.  Join Ann\, Michele and Bela each morning for a 15-minute practice\, which will vary each day\, to make mindfulness part of your life. \n• Monday-Friday: Beginning September 8\, 2025\n• 7:30-7:45 a.m. \nRegistration link: https://www.tfaforms.com/4749944?tfa_1887=a0VPn00000D9KOD&tfa_1910=a0TPn00000qfpbp
URL:https://mhahouston.org/event/fresh-start-free-daily-mindfulness-practice/2026-09-09/
CATEGORIES:Free,Training
ATTACH;FMTTYPE=image/png:https://mhahouston.org/wp-content/uploads/2025/08/free-daily-mindfulness.png
END:VEVENT
BEGIN:VEVENT
DTSTART;TZID=UTC:20260910T073000
DTEND;TZID=UTC:20260910T074500
DTSTAMP:20260424T143647
CREATED:20250806T151844Z
LAST-MODIFIED:20260219T142307Z
UID:10000544-1789025400-1789026300@mhahouston.org
SUMMARY:Fresh Start: FREE Daily Mindfulness Practice
DESCRIPTION:Each day is an opportunity for a fresh start to live your life fully.  Practicing meditation in community to release unhelpful thoughts and quiet the mind can be strengthened by daily practice.  Join Ann\, Michele and Bela each morning for a 15-minute practice\, which will vary each day\, to make mindfulness part of your life. \n• Monday-Friday: Beginning September 8\, 2025\n• 7:30-7:45 a.m. \nRegistration link: https://www.tfaforms.com/4749944?tfa_1887=a0VPn00000D9KOD&tfa_1910=a0TPn00000qfpbp
URL:https://mhahouston.org/event/fresh-start-free-daily-mindfulness-practice/2026-09-10/
CATEGORIES:Free,Training
ATTACH;FMTTYPE=image/png:https://mhahouston.org/wp-content/uploads/2025/08/free-daily-mindfulness.png
END:VEVENT
BEGIN:VEVENT
DTSTART;TZID=UTC:20260911T073000
DTEND;TZID=UTC:20260911T074500
DTSTAMP:20260424T143647
CREATED:20250806T151844Z
LAST-MODIFIED:20260219T142307Z
UID:10000545-1789111800-1789112700@mhahouston.org
SUMMARY:Fresh Start: FREE Daily Mindfulness Practice
DESCRIPTION:Each day is an opportunity for a fresh start to live your life fully.  Practicing meditation in community to release unhelpful thoughts and quiet the mind can be strengthened by daily practice.  Join Ann\, Michele and Bela each morning for a 15-minute practice\, which will vary each day\, to make mindfulness part of your life. \n• Monday-Friday: Beginning September 8\, 2025\n• 7:30-7:45 a.m. \nRegistration link: https://www.tfaforms.com/4749944?tfa_1887=a0VPn00000D9KOD&tfa_1910=a0TPn00000qfpbp
URL:https://mhahouston.org/event/fresh-start-free-daily-mindfulness-practice/2026-09-11/
CATEGORIES:Free,Training
ATTACH;FMTTYPE=image/png:https://mhahouston.org/wp-content/uploads/2025/08/free-daily-mindfulness.png
END:VEVENT
BEGIN:VEVENT
DTSTART;TZID=UTC:20260911T110000
DTEND;TZID=UTC:20260911T130000
DTSTAMP:20260424T143647
CREATED:20250807T183205Z
LAST-MODIFIED:20250807T183205Z
UID:10000072-1789124400-1789131600@mhahouston.org
SUMMARY:Military Cultural Competency & Veteran Suicide Awareness
DESCRIPTION:This course is structured for volunteers or mentors that serve the veteran population and would like to explore peer and mentor support opportunities. The class provides awareness of the challenges related to military culture and its impact on service members\, veterans\, and their families. \n  \nEmail Edward Howard to register. \nehoward@mhahouston.org
URL:https://mhahouston.org/event/military-cultural-competency-veteran-suicide-awareness/2026-09-11/
LOCATION:Combined Arms\, 2929 McKinney St\, Houston\, TX\, 77407\, United States
CATEGORIES:Free,Training
ATTACH;FMTTYPE=image/png:https://mhahouston.org/wp-content/uploads/2025/08/Untitled-design-42.png
ORGANIZER;CN="Edward Howard":MAILTO:ehoward@mhahouston.org
END:VEVENT
BEGIN:VEVENT
DTSTART;TZID=UTC:20260914T073000
DTEND;TZID=UTC:20260914T074500
DTSTAMP:20260424T143647
CREATED:20250806T151844Z
LAST-MODIFIED:20260219T142307Z
UID:10000546-1789371000-1789371900@mhahouston.org
SUMMARY:Fresh Start: FREE Daily Mindfulness Practice
DESCRIPTION:Each day is an opportunity for a fresh start to live your life fully.  Practicing meditation in community to release unhelpful thoughts and quiet the mind can be strengthened by daily practice.  Join Ann\, Michele and Bela each morning for a 15-minute practice\, which will vary each day\, to make mindfulness part of your life. \n• Monday-Friday: Beginning September 8\, 2025\n• 7:30-7:45 a.m. \nRegistration link: https://www.tfaforms.com/4749944?tfa_1887=a0VPn00000D9KOD&tfa_1910=a0TPn00000qfpbp
URL:https://mhahouston.org/event/fresh-start-free-daily-mindfulness-practice/2026-09-14/
CATEGORIES:Free,Training
ATTACH;FMTTYPE=image/png:https://mhahouston.org/wp-content/uploads/2025/08/free-daily-mindfulness.png
END:VEVENT
BEGIN:VEVENT
DTSTART;TZID=UTC:20260915T073000
DTEND;TZID=UTC:20260915T074500
DTSTAMP:20260424T143647
CREATED:20250806T151844Z
LAST-MODIFIED:20260219T142307Z
UID:10000547-1789457400-1789458300@mhahouston.org
SUMMARY:Fresh Start: FREE Daily Mindfulness Practice
DESCRIPTION:Each day is an opportunity for a fresh start to live your life fully.  Practicing meditation in community to release unhelpful thoughts and quiet the mind can be strengthened by daily practice.  Join Ann\, Michele and Bela each morning for a 15-minute practice\, which will vary each day\, to make mindfulness part of your life. \n• Monday-Friday: Beginning September 8\, 2025\n• 7:30-7:45 a.m. \nRegistration link: https://www.tfaforms.com/4749944?tfa_1887=a0VPn00000D9KOD&tfa_1910=a0TPn00000qfpbp
URL:https://mhahouston.org/event/fresh-start-free-daily-mindfulness-practice/2026-09-15/
CATEGORIES:Free,Training
ATTACH;FMTTYPE=image/png:https://mhahouston.org/wp-content/uploads/2025/08/free-daily-mindfulness.png
END:VEVENT
BEGIN:VEVENT
DTSTART;TZID=UTC:20260916T073000
DTEND;TZID=UTC:20260916T074500
DTSTAMP:20260424T143647
CREATED:20250806T151844Z
LAST-MODIFIED:20260219T142307Z
UID:10000548-1789543800-1789544700@mhahouston.org
SUMMARY:Fresh Start: FREE Daily Mindfulness Practice
DESCRIPTION:Each day is an opportunity for a fresh start to live your life fully.  Practicing meditation in community to release unhelpful thoughts and quiet the mind can be strengthened by daily practice.  Join Ann\, Michele and Bela each morning for a 15-minute practice\, which will vary each day\, to make mindfulness part of your life. \n• Monday-Friday: Beginning September 8\, 2025\n• 7:30-7:45 a.m. \nRegistration link: https://www.tfaforms.com/4749944?tfa_1887=a0VPn00000D9KOD&tfa_1910=a0TPn00000qfpbp
URL:https://mhahouston.org/event/fresh-start-free-daily-mindfulness-practice/2026-09-16/
CATEGORIES:Free,Training
ATTACH;FMTTYPE=image/png:https://mhahouston.org/wp-content/uploads/2025/08/free-daily-mindfulness.png
END:VEVENT
BEGIN:VEVENT
DTSTART;TZID=UTC:20260917T073000
DTEND;TZID=UTC:20260917T074500
DTSTAMP:20260424T143647
CREATED:20250806T151844Z
LAST-MODIFIED:20260219T142307Z
UID:10000549-1789630200-1789631100@mhahouston.org
SUMMARY:Fresh Start: FREE Daily Mindfulness Practice
DESCRIPTION:Each day is an opportunity for a fresh start to live your life fully.  Practicing meditation in community to release unhelpful thoughts and quiet the mind can be strengthened by daily practice.  Join Ann\, Michele and Bela each morning for a 15-minute practice\, which will vary each day\, to make mindfulness part of your life. \n• Monday-Friday: Beginning September 8\, 2025\n• 7:30-7:45 a.m. \nRegistration link: https://www.tfaforms.com/4749944?tfa_1887=a0VPn00000D9KOD&tfa_1910=a0TPn00000qfpbp
URL:https://mhahouston.org/event/fresh-start-free-daily-mindfulness-practice/2026-09-17/
CATEGORIES:Free,Training
ATTACH;FMTTYPE=image/png:https://mhahouston.org/wp-content/uploads/2025/08/free-daily-mindfulness.png
END:VEVENT
BEGIN:VEVENT
DTSTART;TZID=UTC:20260918T073000
DTEND;TZID=UTC:20260918T074500
DTSTAMP:20260424T143647
CREATED:20250806T151844Z
LAST-MODIFIED:20260219T142307Z
UID:10000550-1789716600-1789717500@mhahouston.org
SUMMARY:Fresh Start: FREE Daily Mindfulness Practice
DESCRIPTION:Each day is an opportunity for a fresh start to live your life fully.  Practicing meditation in community to release unhelpful thoughts and quiet the mind can be strengthened by daily practice.  Join Ann\, Michele and Bela each morning for a 15-minute practice\, which will vary each day\, to make mindfulness part of your life. \n• Monday-Friday: Beginning September 8\, 2025\n• 7:30-7:45 a.m. \nRegistration link: https://www.tfaforms.com/4749944?tfa_1887=a0VPn00000D9KOD&tfa_1910=a0TPn00000qfpbp
URL:https://mhahouston.org/event/fresh-start-free-daily-mindfulness-practice/2026-09-18/
CATEGORIES:Free,Training
ATTACH;FMTTYPE=image/png:https://mhahouston.org/wp-content/uploads/2025/08/free-daily-mindfulness.png
END:VEVENT
BEGIN:VEVENT
DTSTART;TZID=UTC:20260918T110000
DTEND;TZID=UTC:20260918T130000
DTSTAMP:20260424T143647
CREATED:20250807T183205Z
LAST-MODIFIED:20250807T183205Z
UID:10000073-1789729200-1789736400@mhahouston.org
SUMMARY:Military Cultural Competency & Veteran Suicide Awareness
DESCRIPTION:This course is structured for volunteers or mentors that serve the veteran population and would like to explore peer and mentor support opportunities. The class provides awareness of the challenges related to military culture and its impact on service members\, veterans\, and their families. \n  \nEmail Edward Howard to register. \nehoward@mhahouston.org
URL:https://mhahouston.org/event/military-cultural-competency-veteran-suicide-awareness/2026-09-18/
LOCATION:Combined Arms\, 2929 McKinney St\, Houston\, TX\, 77407\, United States
CATEGORIES:Free,Training
ATTACH;FMTTYPE=image/png:https://mhahouston.org/wp-content/uploads/2025/08/Untitled-design-42.png
ORGANIZER;CN="Edward Howard":MAILTO:ehoward@mhahouston.org
END:VEVENT
BEGIN:VEVENT
DTSTART;TZID=UTC:20260921T073000
DTEND;TZID=UTC:20260921T074500
DTSTAMP:20260424T143647
CREATED:20250806T151844Z
LAST-MODIFIED:20260219T142307Z
UID:10000551-1789975800-1789976700@mhahouston.org
SUMMARY:Fresh Start: FREE Daily Mindfulness Practice
DESCRIPTION:Each day is an opportunity for a fresh start to live your life fully.  Practicing meditation in community to release unhelpful thoughts and quiet the mind can be strengthened by daily practice.  Join Ann\, Michele and Bela each morning for a 15-minute practice\, which will vary each day\, to make mindfulness part of your life. \n• Monday-Friday: Beginning September 8\, 2025\n• 7:30-7:45 a.m. \nRegistration link: https://www.tfaforms.com/4749944?tfa_1887=a0VPn00000D9KOD&tfa_1910=a0TPn00000qfpbp
URL:https://mhahouston.org/event/fresh-start-free-daily-mindfulness-practice/2026-09-21/
CATEGORIES:Free,Training
ATTACH;FMTTYPE=image/png:https://mhahouston.org/wp-content/uploads/2025/08/free-daily-mindfulness.png
END:VEVENT
BEGIN:VEVENT
DTSTART;TZID=UTC:20260922T073000
DTEND;TZID=UTC:20260922T074500
DTSTAMP:20260424T143647
CREATED:20250806T151844Z
LAST-MODIFIED:20260219T142307Z
UID:10000552-1790062200-1790063100@mhahouston.org
SUMMARY:Fresh Start: FREE Daily Mindfulness Practice
DESCRIPTION:Each day is an opportunity for a fresh start to live your life fully.  Practicing meditation in community to release unhelpful thoughts and quiet the mind can be strengthened by daily practice.  Join Ann\, Michele and Bela each morning for a 15-minute practice\, which will vary each day\, to make mindfulness part of your life. \n• Monday-Friday: Beginning September 8\, 2025\n• 7:30-7:45 a.m. \nRegistration link: https://www.tfaforms.com/4749944?tfa_1887=a0VPn00000D9KOD&tfa_1910=a0TPn00000qfpbp
URL:https://mhahouston.org/event/fresh-start-free-daily-mindfulness-practice/2026-09-22/
CATEGORIES:Free,Training
ATTACH;FMTTYPE=image/png:https://mhahouston.org/wp-content/uploads/2025/08/free-daily-mindfulness.png
END:VEVENT
BEGIN:VEVENT
DTSTART;TZID=UTC:20260923T073000
DTEND;TZID=UTC:20260923T074500
DTSTAMP:20260424T143647
CREATED:20250806T151844Z
LAST-MODIFIED:20260219T142307Z
UID:10000553-1790148600-1790149500@mhahouston.org
SUMMARY:Fresh Start: FREE Daily Mindfulness Practice
DESCRIPTION:Each day is an opportunity for a fresh start to live your life fully.  Practicing meditation in community to release unhelpful thoughts and quiet the mind can be strengthened by daily practice.  Join Ann\, Michele and Bela each morning for a 15-minute practice\, which will vary each day\, to make mindfulness part of your life. \n• Monday-Friday: Beginning September 8\, 2025\n• 7:30-7:45 a.m. \nRegistration link: https://www.tfaforms.com/4749944?tfa_1887=a0VPn00000D9KOD&tfa_1910=a0TPn00000qfpbp
URL:https://mhahouston.org/event/fresh-start-free-daily-mindfulness-practice/2026-09-23/
CATEGORIES:Free,Training
ATTACH;FMTTYPE=image/png:https://mhahouston.org/wp-content/uploads/2025/08/free-daily-mindfulness.png
END:VEVENT
BEGIN:VEVENT
DTSTART;TZID=UTC:20260924T073000
DTEND;TZID=UTC:20260924T074500
DTSTAMP:20260424T143647
CREATED:20250806T151844Z
LAST-MODIFIED:20260219T142307Z
UID:10000554-1790235000-1790235900@mhahouston.org
SUMMARY:Fresh Start: FREE Daily Mindfulness Practice
DESCRIPTION:Each day is an opportunity for a fresh start to live your life fully.  Practicing meditation in community to release unhelpful thoughts and quiet the mind can be strengthened by daily practice.  Join Ann\, Michele and Bela each morning for a 15-minute practice\, which will vary each day\, to make mindfulness part of your life. \n• Monday-Friday: Beginning September 8\, 2025\n• 7:30-7:45 a.m. \nRegistration link: https://www.tfaforms.com/4749944?tfa_1887=a0VPn00000D9KOD&tfa_1910=a0TPn00000qfpbp
URL:https://mhahouston.org/event/fresh-start-free-daily-mindfulness-practice/2026-09-24/
CATEGORIES:Free,Training
ATTACH;FMTTYPE=image/png:https://mhahouston.org/wp-content/uploads/2025/08/free-daily-mindfulness.png
END:VEVENT
BEGIN:VEVENT
DTSTART;TZID=UTC:20260925T073000
DTEND;TZID=UTC:20260925T074500
DTSTAMP:20260424T143647
CREATED:20250806T151844Z
LAST-MODIFIED:20260219T142307Z
UID:10000555-1790321400-1790322300@mhahouston.org
SUMMARY:Fresh Start: FREE Daily Mindfulness Practice
DESCRIPTION:Each day is an opportunity for a fresh start to live your life fully.  Practicing meditation in community to release unhelpful thoughts and quiet the mind can be strengthened by daily practice.  Join Ann\, Michele and Bela each morning for a 15-minute practice\, which will vary each day\, to make mindfulness part of your life. \n• Monday-Friday: Beginning September 8\, 2025\n• 7:30-7:45 a.m. \nRegistration link: https://www.tfaforms.com/4749944?tfa_1887=a0VPn00000D9KOD&tfa_1910=a0TPn00000qfpbp
URL:https://mhahouston.org/event/fresh-start-free-daily-mindfulness-practice/2026-09-25/
CATEGORIES:Free,Training
ATTACH;FMTTYPE=image/png:https://mhahouston.org/wp-content/uploads/2025/08/free-daily-mindfulness.png
END:VEVENT
BEGIN:VEVENT
DTSTART;TZID=UTC:20260925T110000
DTEND;TZID=UTC:20260925T130000
DTSTAMP:20260424T143647
CREATED:20250807T183205Z
LAST-MODIFIED:20250807T183205Z
UID:10000074-1790334000-1790341200@mhahouston.org
SUMMARY:Military Cultural Competency & Veteran Suicide Awareness
DESCRIPTION:This course is structured for volunteers or mentors that serve the veteran population and would like to explore peer and mentor support opportunities. The class provides awareness of the challenges related to military culture and its impact on service members\, veterans\, and their families. \n  \nEmail Edward Howard to register. \nehoward@mhahouston.org
URL:https://mhahouston.org/event/military-cultural-competency-veteran-suicide-awareness/2026-09-25/
LOCATION:Combined Arms\, 2929 McKinney St\, Houston\, TX\, 77407\, United States
CATEGORIES:Free,Training
ATTACH;FMTTYPE=image/png:https://mhahouston.org/wp-content/uploads/2025/08/Untitled-design-42.png
ORGANIZER;CN="Edward Howard":MAILTO:ehoward@mhahouston.org
END:VEVENT
BEGIN:VEVENT
DTSTART;TZID=UTC:20260928T073000
DTEND;TZID=UTC:20260928T074500
DTSTAMP:20260424T143647
CREATED:20250806T151844Z
LAST-MODIFIED:20260219T142307Z
UID:10000556-1790580600-1790581500@mhahouston.org
SUMMARY:Fresh Start: FREE Daily Mindfulness Practice
DESCRIPTION:Each day is an opportunity for a fresh start to live your life fully.  Practicing meditation in community to release unhelpful thoughts and quiet the mind can be strengthened by daily practice.  Join Ann\, Michele and Bela each morning for a 15-minute practice\, which will vary each day\, to make mindfulness part of your life. \n• Monday-Friday: Beginning September 8\, 2025\n• 7:30-7:45 a.m. \nRegistration link: https://www.tfaforms.com/4749944?tfa_1887=a0VPn00000D9KOD&tfa_1910=a0TPn00000qfpbp
URL:https://mhahouston.org/event/fresh-start-free-daily-mindfulness-practice/2026-09-28/
CATEGORIES:Free,Training
ATTACH;FMTTYPE=image/png:https://mhahouston.org/wp-content/uploads/2025/08/free-daily-mindfulness.png
END:VEVENT
BEGIN:VEVENT
DTSTART;TZID=UTC:20260929T073000
DTEND;TZID=UTC:20260929T074500
DTSTAMP:20260424T143647
CREATED:20250806T151844Z
LAST-MODIFIED:20260219T142307Z
UID:10000557-1790667000-1790667900@mhahouston.org
SUMMARY:Fresh Start: FREE Daily Mindfulness Practice
DESCRIPTION:Each day is an opportunity for a fresh start to live your life fully.  Practicing meditation in community to release unhelpful thoughts and quiet the mind can be strengthened by daily practice.  Join Ann\, Michele and Bela each morning for a 15-minute practice\, which will vary each day\, to make mindfulness part of your life. \n• Monday-Friday: Beginning September 8\, 2025\n• 7:30-7:45 a.m. \nRegistration link: https://www.tfaforms.com/4749944?tfa_1887=a0VPn00000D9KOD&tfa_1910=a0TPn00000qfpbp
URL:https://mhahouston.org/event/fresh-start-free-daily-mindfulness-practice/2026-09-29/
CATEGORIES:Free,Training
ATTACH;FMTTYPE=image/png:https://mhahouston.org/wp-content/uploads/2025/08/free-daily-mindfulness.png
END:VEVENT
BEGIN:VEVENT
DTSTART;TZID=UTC:20260930T073000
DTEND;TZID=UTC:20260930T074500
DTSTAMP:20260424T143647
CREATED:20250806T151844Z
LAST-MODIFIED:20260219T142307Z
UID:10000558-1790753400-1790754300@mhahouston.org
SUMMARY:Fresh Start: FREE Daily Mindfulness Practice
DESCRIPTION:Each day is an opportunity for a fresh start to live your life fully.  Practicing meditation in community to release unhelpful thoughts and quiet the mind can be strengthened by daily practice.  Join Ann\, Michele and Bela each morning for a 15-minute practice\, which will vary each day\, to make mindfulness part of your life. \n• Monday-Friday: Beginning September 8\, 2025\n• 7:30-7:45 a.m. \nRegistration link: https://www.tfaforms.com/4749944?tfa_1887=a0VPn00000D9KOD&tfa_1910=a0TPn00000qfpbp
URL:https://mhahouston.org/event/fresh-start-free-daily-mindfulness-practice/2026-09-30/
CATEGORIES:Free,Training
ATTACH;FMTTYPE=image/png:https://mhahouston.org/wp-content/uploads/2025/08/free-daily-mindfulness.png
END:VEVENT
END:VCALENDAR