BEGIN:VCALENDAR
VERSION:2.0
PRODID:-//Mental Health America of Greater Houston - ECPv6.15.14//NONSGML v1.0//EN
CALSCALE:GREGORIAN
METHOD:PUBLISH
X-WR-CALNAME:Mental Health America of Greater Houston
X-ORIGINAL-URL:https://mhahouston.org
X-WR-CALDESC:Events for Mental Health America of Greater Houston
REFRESH-INTERVAL;VALUE=DURATION:PT1H
X-Robots-Tag:noindex
X-PUBLISHED-TTL:PT1H
BEGIN:VTIMEZONE
TZID:UTC
BEGIN:STANDARD
TZOFFSETFROM:+0000
TZOFFSETTO:+0000
TZNAME:UTC
DTSTART:20250101T000000
END:STANDARD
END:VTIMEZONE
BEGIN:VEVENT
DTSTART;TZID=UTC:20260302T073000
DTEND;TZID=UTC:20260302T074500
DTSTAMP:20260424T080119
CREATED:20250806T151844Z
LAST-MODIFIED:20260219T142307Z
UID:10000406-1772436600-1772437500@mhahouston.org
SUMMARY:Fresh Start: FREE Daily Mindfulness Practice
DESCRIPTION:Each day is an opportunity for a fresh start to live your life fully.  Practicing meditation in community to release unhelpful thoughts and quiet the mind can be strengthened by daily practice.  Join Ann\, Michele and Bela each morning for a 15-minute practice\, which will vary each day\, to make mindfulness part of your life. \n• Monday-Friday: Beginning September 8\, 2025\n• 7:30-7:45 a.m. \nRegistration link: https://www.tfaforms.com/4749944?tfa_1887=a0VPn00000D9KOD&tfa_1910=a0TPn00000qfpbp
URL:https://mhahouston.org/event/fresh-start-free-daily-mindfulness-practice/2026-03-02/
CATEGORIES:Free,Training
ATTACH;FMTTYPE=image/png:https://mhahouston.org/wp-content/uploads/2025/08/free-daily-mindfulness.png
END:VEVENT
BEGIN:VEVENT
DTSTART;TZID=UTC:20260303T073000
DTEND;TZID=UTC:20260303T074500
DTSTAMP:20260424T080119
CREATED:20250806T151844Z
LAST-MODIFIED:20260219T142307Z
UID:10000407-1772523000-1772523900@mhahouston.org
SUMMARY:Fresh Start: FREE Daily Mindfulness Practice
DESCRIPTION:Each day is an opportunity for a fresh start to live your life fully.  Practicing meditation in community to release unhelpful thoughts and quiet the mind can be strengthened by daily practice.  Join Ann\, Michele and Bela each morning for a 15-minute practice\, which will vary each day\, to make mindfulness part of your life. \n• Monday-Friday: Beginning September 8\, 2025\n• 7:30-7:45 a.m. \nRegistration link: https://www.tfaforms.com/4749944?tfa_1887=a0VPn00000D9KOD&tfa_1910=a0TPn00000qfpbp
URL:https://mhahouston.org/event/fresh-start-free-daily-mindfulness-practice/2026-03-03/
CATEGORIES:Free,Training
ATTACH;FMTTYPE=image/png:https://mhahouston.org/wp-content/uploads/2025/08/free-daily-mindfulness.png
END:VEVENT
BEGIN:VEVENT
DTSTART;TZID=UTC:20260304T073000
DTEND;TZID=UTC:20260304T074500
DTSTAMP:20260424T080119
CREATED:20250806T151844Z
LAST-MODIFIED:20260219T142307Z
UID:10000408-1772609400-1772610300@mhahouston.org
SUMMARY:Fresh Start: FREE Daily Mindfulness Practice
DESCRIPTION:Each day is an opportunity for a fresh start to live your life fully.  Practicing meditation in community to release unhelpful thoughts and quiet the mind can be strengthened by daily practice.  Join Ann\, Michele and Bela each morning for a 15-minute practice\, which will vary each day\, to make mindfulness part of your life. \n• Monday-Friday: Beginning September 8\, 2025\n• 7:30-7:45 a.m. \nRegistration link: https://www.tfaforms.com/4749944?tfa_1887=a0VPn00000D9KOD&tfa_1910=a0TPn00000qfpbp
URL:https://mhahouston.org/event/fresh-start-free-daily-mindfulness-practice/2026-03-04/
CATEGORIES:Free,Training
ATTACH;FMTTYPE=image/png:https://mhahouston.org/wp-content/uploads/2025/08/free-daily-mindfulness.png
END:VEVENT
BEGIN:VEVENT
DTSTART;TZID=UTC:20260305T073000
DTEND;TZID=UTC:20260305T074500
DTSTAMP:20260424T080119
CREATED:20250806T151844Z
LAST-MODIFIED:20260219T142307Z
UID:10000409-1772695800-1772696700@mhahouston.org
SUMMARY:Fresh Start: FREE Daily Mindfulness Practice
DESCRIPTION:Each day is an opportunity for a fresh start to live your life fully.  Practicing meditation in community to release unhelpful thoughts and quiet the mind can be strengthened by daily practice.  Join Ann\, Michele and Bela each morning for a 15-minute practice\, which will vary each day\, to make mindfulness part of your life. \n• Monday-Friday: Beginning September 8\, 2025\n• 7:30-7:45 a.m. \nRegistration link: https://www.tfaforms.com/4749944?tfa_1887=a0VPn00000D9KOD&tfa_1910=a0TPn00000qfpbp
URL:https://mhahouston.org/event/fresh-start-free-daily-mindfulness-practice/2026-03-05/
CATEGORIES:Free,Training
ATTACH;FMTTYPE=image/png:https://mhahouston.org/wp-content/uploads/2025/08/free-daily-mindfulness.png
END:VEVENT
BEGIN:VEVENT
DTSTART;TZID=UTC:20260306T073000
DTEND;TZID=UTC:20260306T074500
DTSTAMP:20260424T080119
CREATED:20250806T151844Z
LAST-MODIFIED:20260219T142307Z
UID:10000410-1772782200-1772783100@mhahouston.org
SUMMARY:Fresh Start: FREE Daily Mindfulness Practice
DESCRIPTION:Each day is an opportunity for a fresh start to live your life fully.  Practicing meditation in community to release unhelpful thoughts and quiet the mind can be strengthened by daily practice.  Join Ann\, Michele and Bela each morning for a 15-minute practice\, which will vary each day\, to make mindfulness part of your life. \n• Monday-Friday: Beginning September 8\, 2025\n• 7:30-7:45 a.m. \nRegistration link: https://www.tfaforms.com/4749944?tfa_1887=a0VPn00000D9KOD&tfa_1910=a0TPn00000qfpbp
URL:https://mhahouston.org/event/fresh-start-free-daily-mindfulness-practice/2026-03-06/
CATEGORIES:Free,Training
ATTACH;FMTTYPE=image/png:https://mhahouston.org/wp-content/uploads/2025/08/free-daily-mindfulness.png
END:VEVENT
BEGIN:VEVENT
DTSTART;TZID=UTC:20260306T110000
DTEND;TZID=UTC:20260306T130000
DTSTAMP:20260424T080119
CREATED:20250807T183205Z
LAST-MODIFIED:20250807T183205Z
UID:10000045-1772794800-1772802000@mhahouston.org
SUMMARY:Military Cultural Competency & Veteran Suicide Awareness
DESCRIPTION:This course is structured for volunteers or mentors that serve the veteran population and would like to explore peer and mentor support opportunities. The class provides awareness of the challenges related to military culture and its impact on service members\, veterans\, and their families. \n  \nEmail Edward Howard to register. \nehoward@mhahouston.org
URL:https://mhahouston.org/event/military-cultural-competency-veteran-suicide-awareness/2026-03-06/
LOCATION:Combined Arms\, 2929 McKinney St\, Houston\, TX\, 77407\, United States
CATEGORIES:Free,Training
ATTACH;FMTTYPE=image/png:https://mhahouston.org/wp-content/uploads/2025/08/Untitled-design-42.png
ORGANIZER;CN="Edward Howard":MAILTO:ehoward@mhahouston.org
END:VEVENT
BEGIN:VEVENT
DTSTART;TZID=UTC:20260309T073000
DTEND;TZID=UTC:20260309T074500
DTSTAMP:20260424T080119
CREATED:20250806T151844Z
LAST-MODIFIED:20260219T142307Z
UID:10000411-1773041400-1773042300@mhahouston.org
SUMMARY:Fresh Start: FREE Daily Mindfulness Practice
DESCRIPTION:Each day is an opportunity for a fresh start to live your life fully.  Practicing meditation in community to release unhelpful thoughts and quiet the mind can be strengthened by daily practice.  Join Ann\, Michele and Bela each morning for a 15-minute practice\, which will vary each day\, to make mindfulness part of your life. \n• Monday-Friday: Beginning September 8\, 2025\n• 7:30-7:45 a.m. \nRegistration link: https://www.tfaforms.com/4749944?tfa_1887=a0VPn00000D9KOD&tfa_1910=a0TPn00000qfpbp
URL:https://mhahouston.org/event/fresh-start-free-daily-mindfulness-practice/2026-03-09/
CATEGORIES:Free,Training
ATTACH;FMTTYPE=image/png:https://mhahouston.org/wp-content/uploads/2025/08/free-daily-mindfulness.png
END:VEVENT
BEGIN:VEVENT
DTSTART;TZID=UTC:20260310T073000
DTEND;TZID=UTC:20260310T074500
DTSTAMP:20260424T080119
CREATED:20250806T151844Z
LAST-MODIFIED:20260219T142307Z
UID:10000412-1773127800-1773128700@mhahouston.org
SUMMARY:Fresh Start: FREE Daily Mindfulness Practice
DESCRIPTION:Each day is an opportunity for a fresh start to live your life fully.  Practicing meditation in community to release unhelpful thoughts and quiet the mind can be strengthened by daily practice.  Join Ann\, Michele and Bela each morning for a 15-minute practice\, which will vary each day\, to make mindfulness part of your life. \n• Monday-Friday: Beginning September 8\, 2025\n• 7:30-7:45 a.m. \nRegistration link: https://www.tfaforms.com/4749944?tfa_1887=a0VPn00000D9KOD&tfa_1910=a0TPn00000qfpbp
URL:https://mhahouston.org/event/fresh-start-free-daily-mindfulness-practice/2026-03-10/
CATEGORIES:Free,Training
ATTACH;FMTTYPE=image/png:https://mhahouston.org/wp-content/uploads/2025/08/free-daily-mindfulness.png
END:VEVENT
BEGIN:VEVENT
DTSTART;TZID=UTC:20260311T073000
DTEND;TZID=UTC:20260311T074500
DTSTAMP:20260424T080119
CREATED:20250806T151844Z
LAST-MODIFIED:20260219T142307Z
UID:10000413-1773214200-1773215100@mhahouston.org
SUMMARY:Fresh Start: FREE Daily Mindfulness Practice
DESCRIPTION:Each day is an opportunity for a fresh start to live your life fully.  Practicing meditation in community to release unhelpful thoughts and quiet the mind can be strengthened by daily practice.  Join Ann\, Michele and Bela each morning for a 15-minute practice\, which will vary each day\, to make mindfulness part of your life. \n• Monday-Friday: Beginning September 8\, 2025\n• 7:30-7:45 a.m. \nRegistration link: https://www.tfaforms.com/4749944?tfa_1887=a0VPn00000D9KOD&tfa_1910=a0TPn00000qfpbp
URL:https://mhahouston.org/event/fresh-start-free-daily-mindfulness-practice/2026-03-11/
CATEGORIES:Free,Training
ATTACH;FMTTYPE=image/png:https://mhahouston.org/wp-content/uploads/2025/08/free-daily-mindfulness.png
END:VEVENT
BEGIN:VEVENT
DTSTART;TZID=UTC:20260312T073000
DTEND;TZID=UTC:20260312T074500
DTSTAMP:20260424T080119
CREATED:20250806T151844Z
LAST-MODIFIED:20260219T142307Z
UID:10000414-1773300600-1773301500@mhahouston.org
SUMMARY:Fresh Start: FREE Daily Mindfulness Practice
DESCRIPTION:Each day is an opportunity for a fresh start to live your life fully.  Practicing meditation in community to release unhelpful thoughts and quiet the mind can be strengthened by daily practice.  Join Ann\, Michele and Bela each morning for a 15-minute practice\, which will vary each day\, to make mindfulness part of your life. \n• Monday-Friday: Beginning September 8\, 2025\n• 7:30-7:45 a.m. \nRegistration link: https://www.tfaforms.com/4749944?tfa_1887=a0VPn00000D9KOD&tfa_1910=a0TPn00000qfpbp
URL:https://mhahouston.org/event/fresh-start-free-daily-mindfulness-practice/2026-03-12/
CATEGORIES:Free,Training
ATTACH;FMTTYPE=image/png:https://mhahouston.org/wp-content/uploads/2025/08/free-daily-mindfulness.png
END:VEVENT
BEGIN:VEVENT
DTSTART;TZID=UTC:20260313T073000
DTEND;TZID=UTC:20260313T074500
DTSTAMP:20260424T080119
CREATED:20250806T151844Z
LAST-MODIFIED:20260219T142307Z
UID:10000415-1773387000-1773387900@mhahouston.org
SUMMARY:Fresh Start: FREE Daily Mindfulness Practice
DESCRIPTION:Each day is an opportunity for a fresh start to live your life fully.  Practicing meditation in community to release unhelpful thoughts and quiet the mind can be strengthened by daily practice.  Join Ann\, Michele and Bela each morning for a 15-minute practice\, which will vary each day\, to make mindfulness part of your life. \n• Monday-Friday: Beginning September 8\, 2025\n• 7:30-7:45 a.m. \nRegistration link: https://www.tfaforms.com/4749944?tfa_1887=a0VPn00000D9KOD&tfa_1910=a0TPn00000qfpbp
URL:https://mhahouston.org/event/fresh-start-free-daily-mindfulness-practice/2026-03-13/
CATEGORIES:Free,Training
ATTACH;FMTTYPE=image/png:https://mhahouston.org/wp-content/uploads/2025/08/free-daily-mindfulness.png
END:VEVENT
BEGIN:VEVENT
DTSTART;TZID=UTC:20260313T110000
DTEND;TZID=UTC:20260313T130000
DTSTAMP:20260424T080119
CREATED:20250807T183205Z
LAST-MODIFIED:20250807T183205Z
UID:10000046-1773399600-1773406800@mhahouston.org
SUMMARY:Military Cultural Competency & Veteran Suicide Awareness
DESCRIPTION:This course is structured for volunteers or mentors that serve the veteran population and would like to explore peer and mentor support opportunities. The class provides awareness of the challenges related to military culture and its impact on service members\, veterans\, and their families. \n  \nEmail Edward Howard to register. \nehoward@mhahouston.org
URL:https://mhahouston.org/event/military-cultural-competency-veteran-suicide-awareness/2026-03-13/
LOCATION:Combined Arms\, 2929 McKinney St\, Houston\, TX\, 77407\, United States
CATEGORIES:Free,Training
ATTACH;FMTTYPE=image/png:https://mhahouston.org/wp-content/uploads/2025/08/Untitled-design-42.png
ORGANIZER;CN="Edward Howard":MAILTO:ehoward@mhahouston.org
END:VEVENT
BEGIN:VEVENT
DTSTART;TZID=UTC:20260316T073000
DTEND;TZID=UTC:20260316T074500
DTSTAMP:20260424T080119
CREATED:20250806T151844Z
LAST-MODIFIED:20260219T142307Z
UID:10000416-1773646200-1773647100@mhahouston.org
SUMMARY:Fresh Start: FREE Daily Mindfulness Practice
DESCRIPTION:Each day is an opportunity for a fresh start to live your life fully.  Practicing meditation in community to release unhelpful thoughts and quiet the mind can be strengthened by daily practice.  Join Ann\, Michele and Bela each morning for a 15-minute practice\, which will vary each day\, to make mindfulness part of your life. \n• Monday-Friday: Beginning September 8\, 2025\n• 7:30-7:45 a.m. \nRegistration link: https://www.tfaforms.com/4749944?tfa_1887=a0VPn00000D9KOD&tfa_1910=a0TPn00000qfpbp
URL:https://mhahouston.org/event/fresh-start-free-daily-mindfulness-practice/2026-03-16/
CATEGORIES:Free,Training
ATTACH;FMTTYPE=image/png:https://mhahouston.org/wp-content/uploads/2025/08/free-daily-mindfulness.png
END:VEVENT
BEGIN:VEVENT
DTSTART;TZID=UTC:20260317T073000
DTEND;TZID=UTC:20260317T074500
DTSTAMP:20260424T080119
CREATED:20250806T151844Z
LAST-MODIFIED:20260219T142307Z
UID:10000417-1773732600-1773733500@mhahouston.org
SUMMARY:Fresh Start: FREE Daily Mindfulness Practice
DESCRIPTION:Each day is an opportunity for a fresh start to live your life fully.  Practicing meditation in community to release unhelpful thoughts and quiet the mind can be strengthened by daily practice.  Join Ann\, Michele and Bela each morning for a 15-minute practice\, which will vary each day\, to make mindfulness part of your life. \n• Monday-Friday: Beginning September 8\, 2025\n• 7:30-7:45 a.m. \nRegistration link: https://www.tfaforms.com/4749944?tfa_1887=a0VPn00000D9KOD&tfa_1910=a0TPn00000qfpbp
URL:https://mhahouston.org/event/fresh-start-free-daily-mindfulness-practice/2026-03-17/
CATEGORIES:Free,Training
ATTACH;FMTTYPE=image/png:https://mhahouston.org/wp-content/uploads/2025/08/free-daily-mindfulness.png
END:VEVENT
BEGIN:VEVENT
DTSTART;TZID=UTC:20260318T073000
DTEND;TZID=UTC:20260318T074500
DTSTAMP:20260424T080119
CREATED:20250806T151844Z
LAST-MODIFIED:20260219T142307Z
UID:10000418-1773819000-1773819900@mhahouston.org
SUMMARY:Fresh Start: FREE Daily Mindfulness Practice
DESCRIPTION:Each day is an opportunity for a fresh start to live your life fully.  Practicing meditation in community to release unhelpful thoughts and quiet the mind can be strengthened by daily practice.  Join Ann\, Michele and Bela each morning for a 15-minute practice\, which will vary each day\, to make mindfulness part of your life. \n• Monday-Friday: Beginning September 8\, 2025\n• 7:30-7:45 a.m. \nRegistration link: https://www.tfaforms.com/4749944?tfa_1887=a0VPn00000D9KOD&tfa_1910=a0TPn00000qfpbp
URL:https://mhahouston.org/event/fresh-start-free-daily-mindfulness-practice/2026-03-18/
CATEGORIES:Free,Training
ATTACH;FMTTYPE=image/png:https://mhahouston.org/wp-content/uploads/2025/08/free-daily-mindfulness.png
END:VEVENT
BEGIN:VEVENT
DTSTART;TZID=UTC:20260319T073000
DTEND;TZID=UTC:20260319T074500
DTSTAMP:20260424T080119
CREATED:20250806T151844Z
LAST-MODIFIED:20260219T142307Z
UID:10000419-1773905400-1773906300@mhahouston.org
SUMMARY:Fresh Start: FREE Daily Mindfulness Practice
DESCRIPTION:Each day is an opportunity for a fresh start to live your life fully.  Practicing meditation in community to release unhelpful thoughts and quiet the mind can be strengthened by daily practice.  Join Ann\, Michele and Bela each morning for a 15-minute practice\, which will vary each day\, to make mindfulness part of your life. \n• Monday-Friday: Beginning September 8\, 2025\n• 7:30-7:45 a.m. \nRegistration link: https://www.tfaforms.com/4749944?tfa_1887=a0VPn00000D9KOD&tfa_1910=a0TPn00000qfpbp
URL:https://mhahouston.org/event/fresh-start-free-daily-mindfulness-practice/2026-03-19/
CATEGORIES:Free,Training
ATTACH;FMTTYPE=image/png:https://mhahouston.org/wp-content/uploads/2025/08/free-daily-mindfulness.png
END:VEVENT
BEGIN:VEVENT
DTSTART;TZID=UTC:20260320T073000
DTEND;TZID=UTC:20260320T074500
DTSTAMP:20260424T080119
CREATED:20250806T151844Z
LAST-MODIFIED:20260219T142307Z
UID:10000420-1773991800-1773992700@mhahouston.org
SUMMARY:Fresh Start: FREE Daily Mindfulness Practice
DESCRIPTION:Each day is an opportunity for a fresh start to live your life fully.  Practicing meditation in community to release unhelpful thoughts and quiet the mind can be strengthened by daily practice.  Join Ann\, Michele and Bela each morning for a 15-minute practice\, which will vary each day\, to make mindfulness part of your life. \n• Monday-Friday: Beginning September 8\, 2025\n• 7:30-7:45 a.m. \nRegistration link: https://www.tfaforms.com/4749944?tfa_1887=a0VPn00000D9KOD&tfa_1910=a0TPn00000qfpbp
URL:https://mhahouston.org/event/fresh-start-free-daily-mindfulness-practice/2026-03-20/
CATEGORIES:Free,Training
ATTACH;FMTTYPE=image/png:https://mhahouston.org/wp-content/uploads/2025/08/free-daily-mindfulness.png
END:VEVENT
BEGIN:VEVENT
DTSTART;TZID=UTC:20260320T110000
DTEND;TZID=UTC:20260320T130000
DTSTAMP:20260424T080119
CREATED:20250807T183205Z
LAST-MODIFIED:20250807T183205Z
UID:10000047-1774004400-1774011600@mhahouston.org
SUMMARY:Military Cultural Competency & Veteran Suicide Awareness
DESCRIPTION:This course is structured for volunteers or mentors that serve the veteran population and would like to explore peer and mentor support opportunities. The class provides awareness of the challenges related to military culture and its impact on service members\, veterans\, and their families. \n  \nEmail Edward Howard to register. \nehoward@mhahouston.org
URL:https://mhahouston.org/event/military-cultural-competency-veteran-suicide-awareness/2026-03-20/
LOCATION:Combined Arms\, 2929 McKinney St\, Houston\, TX\, 77407\, United States
CATEGORIES:Free,Training
ATTACH;FMTTYPE=image/png:https://mhahouston.org/wp-content/uploads/2025/08/Untitled-design-42.png
ORGANIZER;CN="Edward Howard":MAILTO:ehoward@mhahouston.org
END:VEVENT
BEGIN:VEVENT
DTSTART;TZID=UTC:20260323T073000
DTEND;TZID=UTC:20260323T074500
DTSTAMP:20260424T080119
CREATED:20250806T151844Z
LAST-MODIFIED:20260219T142307Z
UID:10000421-1774251000-1774251900@mhahouston.org
SUMMARY:Fresh Start: FREE Daily Mindfulness Practice
DESCRIPTION:Each day is an opportunity for a fresh start to live your life fully.  Practicing meditation in community to release unhelpful thoughts and quiet the mind can be strengthened by daily practice.  Join Ann\, Michele and Bela each morning for a 15-minute practice\, which will vary each day\, to make mindfulness part of your life. \n• Monday-Friday: Beginning September 8\, 2025\n• 7:30-7:45 a.m. \nRegistration link: https://www.tfaforms.com/4749944?tfa_1887=a0VPn00000D9KOD&tfa_1910=a0TPn00000qfpbp
URL:https://mhahouston.org/event/fresh-start-free-daily-mindfulness-practice/2026-03-23/
CATEGORIES:Free,Training
ATTACH;FMTTYPE=image/png:https://mhahouston.org/wp-content/uploads/2025/08/free-daily-mindfulness.png
END:VEVENT
BEGIN:VEVENT
DTSTART;TZID=UTC:20260324T073000
DTEND;TZID=UTC:20260324T074500
DTSTAMP:20260424T080119
CREATED:20250806T151844Z
LAST-MODIFIED:20260219T142307Z
UID:10000422-1774337400-1774338300@mhahouston.org
SUMMARY:Fresh Start: FREE Daily Mindfulness Practice
DESCRIPTION:Each day is an opportunity for a fresh start to live your life fully.  Practicing meditation in community to release unhelpful thoughts and quiet the mind can be strengthened by daily practice.  Join Ann\, Michele and Bela each morning for a 15-minute practice\, which will vary each day\, to make mindfulness part of your life. \n• Monday-Friday: Beginning September 8\, 2025\n• 7:30-7:45 a.m. \nRegistration link: https://www.tfaforms.com/4749944?tfa_1887=a0VPn00000D9KOD&tfa_1910=a0TPn00000qfpbp
URL:https://mhahouston.org/event/fresh-start-free-daily-mindfulness-practice/2026-03-24/
CATEGORIES:Free,Training
ATTACH;FMTTYPE=image/png:https://mhahouston.org/wp-content/uploads/2025/08/free-daily-mindfulness.png
END:VEVENT
BEGIN:VEVENT
DTSTART;TZID=UTC:20260325T073000
DTEND;TZID=UTC:20260325T074500
DTSTAMP:20260424T080119
CREATED:20250806T151844Z
LAST-MODIFIED:20260219T142307Z
UID:10000423-1774423800-1774424700@mhahouston.org
SUMMARY:Fresh Start: FREE Daily Mindfulness Practice
DESCRIPTION:Each day is an opportunity for a fresh start to live your life fully.  Practicing meditation in community to release unhelpful thoughts and quiet the mind can be strengthened by daily practice.  Join Ann\, Michele and Bela each morning for a 15-minute practice\, which will vary each day\, to make mindfulness part of your life. \n• Monday-Friday: Beginning September 8\, 2025\n• 7:30-7:45 a.m. \nRegistration link: https://www.tfaforms.com/4749944?tfa_1887=a0VPn00000D9KOD&tfa_1910=a0TPn00000qfpbp
URL:https://mhahouston.org/event/fresh-start-free-daily-mindfulness-practice/2026-03-25/
CATEGORIES:Free,Training
ATTACH;FMTTYPE=image/png:https://mhahouston.org/wp-content/uploads/2025/08/free-daily-mindfulness.png
END:VEVENT
BEGIN:VEVENT
DTSTART;TZID=UTC:20260326T073000
DTEND;TZID=UTC:20260326T074500
DTSTAMP:20260424T080119
CREATED:20250806T151844Z
LAST-MODIFIED:20260219T142307Z
UID:10000424-1774510200-1774511100@mhahouston.org
SUMMARY:Fresh Start: FREE Daily Mindfulness Practice
DESCRIPTION:Each day is an opportunity for a fresh start to live your life fully.  Practicing meditation in community to release unhelpful thoughts and quiet the mind can be strengthened by daily practice.  Join Ann\, Michele and Bela each morning for a 15-minute practice\, which will vary each day\, to make mindfulness part of your life. \n• Monday-Friday: Beginning September 8\, 2025\n• 7:30-7:45 a.m. \nRegistration link: https://www.tfaforms.com/4749944?tfa_1887=a0VPn00000D9KOD&tfa_1910=a0TPn00000qfpbp
URL:https://mhahouston.org/event/fresh-start-free-daily-mindfulness-practice/2026-03-26/
CATEGORIES:Free,Training
ATTACH;FMTTYPE=image/png:https://mhahouston.org/wp-content/uploads/2025/08/free-daily-mindfulness.png
END:VEVENT
BEGIN:VEVENT
DTSTART;TZID=UTC:20260327T073000
DTEND;TZID=UTC:20260327T074500
DTSTAMP:20260424T080119
CREATED:20250806T151844Z
LAST-MODIFIED:20260219T142307Z
UID:10000425-1774596600-1774597500@mhahouston.org
SUMMARY:Fresh Start: FREE Daily Mindfulness Practice
DESCRIPTION:Each day is an opportunity for a fresh start to live your life fully.  Practicing meditation in community to release unhelpful thoughts and quiet the mind can be strengthened by daily practice.  Join Ann\, Michele and Bela each morning for a 15-minute practice\, which will vary each day\, to make mindfulness part of your life. \n• Monday-Friday: Beginning September 8\, 2025\n• 7:30-7:45 a.m. \nRegistration link: https://www.tfaforms.com/4749944?tfa_1887=a0VPn00000D9KOD&tfa_1910=a0TPn00000qfpbp
URL:https://mhahouston.org/event/fresh-start-free-daily-mindfulness-practice/2026-03-27/
CATEGORIES:Free,Training
ATTACH;FMTTYPE=image/png:https://mhahouston.org/wp-content/uploads/2025/08/free-daily-mindfulness.png
END:VEVENT
BEGIN:VEVENT
DTSTART;TZID=UTC:20260327T110000
DTEND;TZID=UTC:20260327T130000
DTSTAMP:20260424T080119
CREATED:20250807T183205Z
LAST-MODIFIED:20250807T183205Z
UID:10000048-1774609200-1774616400@mhahouston.org
SUMMARY:Military Cultural Competency & Veteran Suicide Awareness
DESCRIPTION:This course is structured for volunteers or mentors that serve the veteran population and would like to explore peer and mentor support opportunities. The class provides awareness of the challenges related to military culture and its impact on service members\, veterans\, and their families. \n  \nEmail Edward Howard to register. \nehoward@mhahouston.org
URL:https://mhahouston.org/event/military-cultural-competency-veteran-suicide-awareness/2026-03-27/
LOCATION:Combined Arms\, 2929 McKinney St\, Houston\, TX\, 77407\, United States
CATEGORIES:Free,Training
ATTACH;FMTTYPE=image/png:https://mhahouston.org/wp-content/uploads/2025/08/Untitled-design-42.png
ORGANIZER;CN="Edward Howard":MAILTO:ehoward@mhahouston.org
END:VEVENT
BEGIN:VEVENT
DTSTART;TZID=UTC:20260330T073000
DTEND;TZID=UTC:20260330T074500
DTSTAMP:20260424T080119
CREATED:20250806T151844Z
LAST-MODIFIED:20260219T142307Z
UID:10000426-1774855800-1774856700@mhahouston.org
SUMMARY:Fresh Start: FREE Daily Mindfulness Practice
DESCRIPTION:Each day is an opportunity for a fresh start to live your life fully.  Practicing meditation in community to release unhelpful thoughts and quiet the mind can be strengthened by daily practice.  Join Ann\, Michele and Bela each morning for a 15-minute practice\, which will vary each day\, to make mindfulness part of your life. \n• Monday-Friday: Beginning September 8\, 2025\n• 7:30-7:45 a.m. \nRegistration link: https://www.tfaforms.com/4749944?tfa_1887=a0VPn00000D9KOD&tfa_1910=a0TPn00000qfpbp
URL:https://mhahouston.org/event/fresh-start-free-daily-mindfulness-practice/2026-03-30/
CATEGORIES:Free,Training
ATTACH;FMTTYPE=image/png:https://mhahouston.org/wp-content/uploads/2025/08/free-daily-mindfulness.png
END:VEVENT
BEGIN:VEVENT
DTSTART;TZID=UTC:20260331T073000
DTEND;TZID=UTC:20260331T074500
DTSTAMP:20260424T080119
CREATED:20250806T151844Z
LAST-MODIFIED:20260219T142307Z
UID:10000427-1774942200-1774943100@mhahouston.org
SUMMARY:Fresh Start: FREE Daily Mindfulness Practice
DESCRIPTION:Each day is an opportunity for a fresh start to live your life fully.  Practicing meditation in community to release unhelpful thoughts and quiet the mind can be strengthened by daily practice.  Join Ann\, Michele and Bela each morning for a 15-minute practice\, which will vary each day\, to make mindfulness part of your life. \n• Monday-Friday: Beginning September 8\, 2025\n• 7:30-7:45 a.m. \nRegistration link: https://www.tfaforms.com/4749944?tfa_1887=a0VPn00000D9KOD&tfa_1910=a0TPn00000qfpbp
URL:https://mhahouston.org/event/fresh-start-free-daily-mindfulness-practice/2026-03-31/
CATEGORIES:Free,Training
ATTACH;FMTTYPE=image/png:https://mhahouston.org/wp-content/uploads/2025/08/free-daily-mindfulness.png
END:VEVENT
BEGIN:VEVENT
DTSTART;TZID=UTC:20260331T170000
DTEND;TZID=UTC:20260331T190000
DTSTAMP:20260424T080119
CREATED:20260204T230442Z
LAST-MODIFIED:20260418T012851Z
UID:10000846-1774976400-1774983600@mhahouston.org
SUMMARY:Advocacy 101 Training
DESCRIPTION:Advocacy 101 is a virtual training offered statewide. It runs approximately 2–2.5 hours and is interactive in nature. The focus is on learning the importance of advocacy and how to leverage lived experience to make change\, including identifying the three forms of advocacy: personal\, community\, and systemic. The goal is for participants to leave feeling ready to advocate.
URL:https://mhahouston.org/event/advocacy-101-training/2026-03-31/
CATEGORIES:Free,Training
ATTACH;FMTTYPE=image/png:https://mhahouston.org/wp-content/uploads/2026/02/Copy-of-Policy-Trainings-2026-Facebook-Post.png
END:VEVENT
END:VCALENDAR