BEGIN:VCALENDAR
VERSION:2.0
PRODID:-//Mental Health America of Greater Houston - ECPv6.15.14//NONSGML v1.0//EN
CALSCALE:GREGORIAN
METHOD:PUBLISH
X-WR-CALNAME:Mental Health America of Greater Houston
X-ORIGINAL-URL:https://mhahouston.org
X-WR-CALDESC:Events for Mental Health America of Greater Houston
REFRESH-INTERVAL;VALUE=DURATION:PT1H
X-Robots-Tag:noindex
X-PUBLISHED-TTL:PT1H
BEGIN:VTIMEZONE
TZID:UTC
BEGIN:STANDARD
TZOFFSETFROM:+0000
TZOFFSETTO:+0000
TZNAME:UTC
DTSTART:20240101T000000
END:STANDARD
END:VTIMEZONE
BEGIN:VEVENT
DTSTART;TZID=UTC:20251001T073000
DTEND;TZID=UTC:20251001T074500
DTSTAMP:20260424T160444
CREATED:20250806T151844Z
LAST-MODIFIED:20260219T142307Z
UID:10000298-1759303800-1759304700@mhahouston.org
SUMMARY:Fresh Start: FREE Daily Mindfulness Practice
DESCRIPTION:Each day is an opportunity for a fresh start to live your life fully.  Practicing meditation in community to release unhelpful thoughts and quiet the mind can be strengthened by daily practice.  Join Ann\, Michele and Bela each morning for a 15-minute practice\, which will vary each day\, to make mindfulness part of your life. \n• Monday-Friday: Beginning September 8\, 2025\n• 7:30-7:45 a.m. \nRegistration link: https://www.tfaforms.com/4749944?tfa_1887=a0VPn00000D9KOD&tfa_1910=a0TPn00000qfpbp
URL:https://mhahouston.org/event/fresh-start-free-daily-mindfulness-practice/2025-10-01/
CATEGORIES:Free,Training
ATTACH;FMTTYPE=image/png:https://mhahouston.org/wp-content/uploads/2025/08/free-daily-mindfulness.png
END:VEVENT
BEGIN:VEVENT
DTSTART;TZID=UTC:20251002T073000
DTEND;TZID=UTC:20251002T074500
DTSTAMP:20260424T160444
CREATED:20250806T151844Z
LAST-MODIFIED:20260219T142307Z
UID:10000299-1759390200-1759391100@mhahouston.org
SUMMARY:Fresh Start: FREE Daily Mindfulness Practice
DESCRIPTION:Each day is an opportunity for a fresh start to live your life fully.  Practicing meditation in community to release unhelpful thoughts and quiet the mind can be strengthened by daily practice.  Join Ann\, Michele and Bela each morning for a 15-minute practice\, which will vary each day\, to make mindfulness part of your life. \n• Monday-Friday: Beginning September 8\, 2025\n• 7:30-7:45 a.m. \nRegistration link: https://www.tfaforms.com/4749944?tfa_1887=a0VPn00000D9KOD&tfa_1910=a0TPn00000qfpbp
URL:https://mhahouston.org/event/fresh-start-free-daily-mindfulness-practice/2025-10-02/
CATEGORIES:Free,Training
ATTACH;FMTTYPE=image/png:https://mhahouston.org/wp-content/uploads/2025/08/free-daily-mindfulness.png
END:VEVENT
BEGIN:VEVENT
DTSTART;TZID=UTC:20251003T073000
DTEND;TZID=UTC:20251003T074500
DTSTAMP:20260424T160444
CREATED:20250806T151844Z
LAST-MODIFIED:20260219T142307Z
UID:10000300-1759476600-1759477500@mhahouston.org
SUMMARY:Fresh Start: FREE Daily Mindfulness Practice
DESCRIPTION:Each day is an opportunity for a fresh start to live your life fully.  Practicing meditation in community to release unhelpful thoughts and quiet the mind can be strengthened by daily practice.  Join Ann\, Michele and Bela each morning for a 15-minute practice\, which will vary each day\, to make mindfulness part of your life. \n• Monday-Friday: Beginning September 8\, 2025\n• 7:30-7:45 a.m. \nRegistration link: https://www.tfaforms.com/4749944?tfa_1887=a0VPn00000D9KOD&tfa_1910=a0TPn00000qfpbp
URL:https://mhahouston.org/event/fresh-start-free-daily-mindfulness-practice/2025-10-03/
CATEGORIES:Free,Training
ATTACH;FMTTYPE=image/png:https://mhahouston.org/wp-content/uploads/2025/08/free-daily-mindfulness.png
END:VEVENT
BEGIN:VEVENT
DTSTART;TZID=UTC:20251003T110000
DTEND;TZID=UTC:20251003T130000
DTSTAMP:20260424T160444
CREATED:20250807T183205Z
LAST-MODIFIED:20250807T183205Z
UID:10000025-1759489200-1759496400@mhahouston.org
SUMMARY:Military Cultural Competency & Veteran Suicide Awareness
DESCRIPTION:This course is structured for volunteers or mentors that serve the veteran population and would like to explore peer and mentor support opportunities. The class provides awareness of the challenges related to military culture and its impact on service members\, veterans\, and their families. \n  \nEmail Edward Howard to register. \nehoward@mhahouston.org
URL:https://mhahouston.org/event/military-cultural-competency-veteran-suicide-awareness/2025-10-03/
LOCATION:Combined Arms\, 2929 McKinney St\, Houston\, TX\, 77407\, United States
CATEGORIES:Free,Training
ATTACH;FMTTYPE=image/png:https://mhahouston.org/wp-content/uploads/2025/08/Untitled-design-42.png
ORGANIZER;CN="Edward Howard":MAILTO:ehoward@mhahouston.org
END:VEVENT
BEGIN:VEVENT
DTSTART;TZID=UTC:20251006T073000
DTEND;TZID=UTC:20251006T074500
DTSTAMP:20260424T160444
CREATED:20250806T151844Z
LAST-MODIFIED:20260219T142307Z
UID:10000301-1759735800-1759736700@mhahouston.org
SUMMARY:Fresh Start: FREE Daily Mindfulness Practice
DESCRIPTION:Each day is an opportunity for a fresh start to live your life fully.  Practicing meditation in community to release unhelpful thoughts and quiet the mind can be strengthened by daily practice.  Join Ann\, Michele and Bela each morning for a 15-minute practice\, which will vary each day\, to make mindfulness part of your life. \n• Monday-Friday: Beginning September 8\, 2025\n• 7:30-7:45 a.m. \nRegistration link: https://www.tfaforms.com/4749944?tfa_1887=a0VPn00000D9KOD&tfa_1910=a0TPn00000qfpbp
URL:https://mhahouston.org/event/fresh-start-free-daily-mindfulness-practice/2025-10-06/
CATEGORIES:Free,Training
ATTACH;FMTTYPE=image/png:https://mhahouston.org/wp-content/uploads/2025/08/free-daily-mindfulness.png
END:VEVENT
BEGIN:VEVENT
DTSTART;TZID=UTC:20251007T073000
DTEND;TZID=UTC:20251007T074500
DTSTAMP:20260424T160444
CREATED:20250806T151844Z
LAST-MODIFIED:20260219T142307Z
UID:10000302-1759822200-1759823100@mhahouston.org
SUMMARY:Fresh Start: FREE Daily Mindfulness Practice
DESCRIPTION:Each day is an opportunity for a fresh start to live your life fully.  Practicing meditation in community to release unhelpful thoughts and quiet the mind can be strengthened by daily practice.  Join Ann\, Michele and Bela each morning for a 15-minute practice\, which will vary each day\, to make mindfulness part of your life. \n• Monday-Friday: Beginning September 8\, 2025\n• 7:30-7:45 a.m. \nRegistration link: https://www.tfaforms.com/4749944?tfa_1887=a0VPn00000D9KOD&tfa_1910=a0TPn00000qfpbp
URL:https://mhahouston.org/event/fresh-start-free-daily-mindfulness-practice/2025-10-07/
CATEGORIES:Free,Training
ATTACH;FMTTYPE=image/png:https://mhahouston.org/wp-content/uploads/2025/08/free-daily-mindfulness.png
END:VEVENT
BEGIN:VEVENT
DTSTART;TZID=UTC:20251008T073000
DTEND;TZID=UTC:20251008T074500
DTSTAMP:20260424T160444
CREATED:20250806T151844Z
LAST-MODIFIED:20260219T142307Z
UID:10000303-1759908600-1759909500@mhahouston.org
SUMMARY:Fresh Start: FREE Daily Mindfulness Practice
DESCRIPTION:Each day is an opportunity for a fresh start to live your life fully.  Practicing meditation in community to release unhelpful thoughts and quiet the mind can be strengthened by daily practice.  Join Ann\, Michele and Bela each morning for a 15-minute practice\, which will vary each day\, to make mindfulness part of your life. \n• Monday-Friday: Beginning September 8\, 2025\n• 7:30-7:45 a.m. \nRegistration link: https://www.tfaforms.com/4749944?tfa_1887=a0VPn00000D9KOD&tfa_1910=a0TPn00000qfpbp
URL:https://mhahouston.org/event/fresh-start-free-daily-mindfulness-practice/2025-10-08/
CATEGORIES:Free,Training
ATTACH;FMTTYPE=image/png:https://mhahouston.org/wp-content/uploads/2025/08/free-daily-mindfulness.png
END:VEVENT
BEGIN:VEVENT
DTSTART;TZID=UTC:20251009T073000
DTEND;TZID=UTC:20251009T074500
DTSTAMP:20260424T160444
CREATED:20250806T151844Z
LAST-MODIFIED:20260219T142307Z
UID:10000304-1759995000-1759995900@mhahouston.org
SUMMARY:Fresh Start: FREE Daily Mindfulness Practice
DESCRIPTION:Each day is an opportunity for a fresh start to live your life fully.  Practicing meditation in community to release unhelpful thoughts and quiet the mind can be strengthened by daily practice.  Join Ann\, Michele and Bela each morning for a 15-minute practice\, which will vary each day\, to make mindfulness part of your life. \n• Monday-Friday: Beginning September 8\, 2025\n• 7:30-7:45 a.m. \nRegistration link: https://www.tfaforms.com/4749944?tfa_1887=a0VPn00000D9KOD&tfa_1910=a0TPn00000qfpbp
URL:https://mhahouston.org/event/fresh-start-free-daily-mindfulness-practice/2025-10-09/
CATEGORIES:Free,Training
ATTACH;FMTTYPE=image/png:https://mhahouston.org/wp-content/uploads/2025/08/free-daily-mindfulness.png
END:VEVENT
BEGIN:VEVENT
DTSTART;TZID=UTC:20251010T073000
DTEND;TZID=UTC:20251010T074500
DTSTAMP:20260424T160444
CREATED:20250806T151844Z
LAST-MODIFIED:20260219T142307Z
UID:10000305-1760081400-1760082300@mhahouston.org
SUMMARY:Fresh Start: FREE Daily Mindfulness Practice
DESCRIPTION:Each day is an opportunity for a fresh start to live your life fully.  Practicing meditation in community to release unhelpful thoughts and quiet the mind can be strengthened by daily practice.  Join Ann\, Michele and Bela each morning for a 15-minute practice\, which will vary each day\, to make mindfulness part of your life. \n• Monday-Friday: Beginning September 8\, 2025\n• 7:30-7:45 a.m. \nRegistration link: https://www.tfaforms.com/4749944?tfa_1887=a0VPn00000D9KOD&tfa_1910=a0TPn00000qfpbp
URL:https://mhahouston.org/event/fresh-start-free-daily-mindfulness-practice/2025-10-10/
CATEGORIES:Free,Training
ATTACH;FMTTYPE=image/png:https://mhahouston.org/wp-content/uploads/2025/08/free-daily-mindfulness.png
END:VEVENT
BEGIN:VEVENT
DTSTART;TZID=UTC:20251010T110000
DTEND;TZID=UTC:20251010T130000
DTSTAMP:20260424T160444
CREATED:20250807T183205Z
LAST-MODIFIED:20250807T183205Z
UID:10000026-1760094000-1760101200@mhahouston.org
SUMMARY:Military Cultural Competency & Veteran Suicide Awareness
DESCRIPTION:This course is structured for volunteers or mentors that serve the veteran population and would like to explore peer and mentor support opportunities. The class provides awareness of the challenges related to military culture and its impact on service members\, veterans\, and their families. \n  \nEmail Edward Howard to register. \nehoward@mhahouston.org
URL:https://mhahouston.org/event/military-cultural-competency-veteran-suicide-awareness/2025-10-10/
LOCATION:Combined Arms\, 2929 McKinney St\, Houston\, TX\, 77407\, United States
CATEGORIES:Free,Training
ATTACH;FMTTYPE=image/png:https://mhahouston.org/wp-content/uploads/2025/08/Untitled-design-42.png
ORGANIZER;CN="Edward Howard":MAILTO:ehoward@mhahouston.org
END:VEVENT
BEGIN:VEVENT
DTSTART;TZID=UTC:20251013T073000
DTEND;TZID=UTC:20251013T074500
DTSTAMP:20260424T160444
CREATED:20250806T151844Z
LAST-MODIFIED:20260219T142307Z
UID:10000306-1760340600-1760341500@mhahouston.org
SUMMARY:Fresh Start: FREE Daily Mindfulness Practice
DESCRIPTION:Each day is an opportunity for a fresh start to live your life fully.  Practicing meditation in community to release unhelpful thoughts and quiet the mind can be strengthened by daily practice.  Join Ann\, Michele and Bela each morning for a 15-minute practice\, which will vary each day\, to make mindfulness part of your life. \n• Monday-Friday: Beginning September 8\, 2025\n• 7:30-7:45 a.m. \nRegistration link: https://www.tfaforms.com/4749944?tfa_1887=a0VPn00000D9KOD&tfa_1910=a0TPn00000qfpbp
URL:https://mhahouston.org/event/fresh-start-free-daily-mindfulness-practice/2025-10-13/
CATEGORIES:Free,Training
ATTACH;FMTTYPE=image/png:https://mhahouston.org/wp-content/uploads/2025/08/free-daily-mindfulness.png
END:VEVENT
BEGIN:VEVENT
DTSTART;TZID=UTC:20251014T073000
DTEND;TZID=UTC:20251014T074500
DTSTAMP:20260424T160444
CREATED:20250806T151844Z
LAST-MODIFIED:20260219T142307Z
UID:10000307-1760427000-1760427900@mhahouston.org
SUMMARY:Fresh Start: FREE Daily Mindfulness Practice
DESCRIPTION:Each day is an opportunity for a fresh start to live your life fully.  Practicing meditation in community to release unhelpful thoughts and quiet the mind can be strengthened by daily practice.  Join Ann\, Michele and Bela each morning for a 15-minute practice\, which will vary each day\, to make mindfulness part of your life. \n• Monday-Friday: Beginning September 8\, 2025\n• 7:30-7:45 a.m. \nRegistration link: https://www.tfaforms.com/4749944?tfa_1887=a0VPn00000D9KOD&tfa_1910=a0TPn00000qfpbp
URL:https://mhahouston.org/event/fresh-start-free-daily-mindfulness-practice/2025-10-14/
CATEGORIES:Free,Training
ATTACH;FMTTYPE=image/png:https://mhahouston.org/wp-content/uploads/2025/08/free-daily-mindfulness.png
END:VEVENT
BEGIN:VEVENT
DTSTART;TZID=UTC:20251015T073000
DTEND;TZID=UTC:20251015T074500
DTSTAMP:20260424T160444
CREATED:20250806T151844Z
LAST-MODIFIED:20260219T142307Z
UID:10000308-1760513400-1760514300@mhahouston.org
SUMMARY:Fresh Start: FREE Daily Mindfulness Practice
DESCRIPTION:Each day is an opportunity for a fresh start to live your life fully.  Practicing meditation in community to release unhelpful thoughts and quiet the mind can be strengthened by daily practice.  Join Ann\, Michele and Bela each morning for a 15-minute practice\, which will vary each day\, to make mindfulness part of your life. \n• Monday-Friday: Beginning September 8\, 2025\n• 7:30-7:45 a.m. \nRegistration link: https://www.tfaforms.com/4749944?tfa_1887=a0VPn00000D9KOD&tfa_1910=a0TPn00000qfpbp
URL:https://mhahouston.org/event/fresh-start-free-daily-mindfulness-practice/2025-10-15/
CATEGORIES:Free,Training
ATTACH;FMTTYPE=image/png:https://mhahouston.org/wp-content/uploads/2025/08/free-daily-mindfulness.png
END:VEVENT
BEGIN:VEVENT
DTSTART;TZID=UTC:20251016T073000
DTEND;TZID=UTC:20251016T074500
DTSTAMP:20260424T160444
CREATED:20250806T151844Z
LAST-MODIFIED:20260219T142307Z
UID:10000309-1760599800-1760600700@mhahouston.org
SUMMARY:Fresh Start: FREE Daily Mindfulness Practice
DESCRIPTION:Each day is an opportunity for a fresh start to live your life fully.  Practicing meditation in community to release unhelpful thoughts and quiet the mind can be strengthened by daily practice.  Join Ann\, Michele and Bela each morning for a 15-minute practice\, which will vary each day\, to make mindfulness part of your life. \n• Monday-Friday: Beginning September 8\, 2025\n• 7:30-7:45 a.m. \nRegistration link: https://www.tfaforms.com/4749944?tfa_1887=a0VPn00000D9KOD&tfa_1910=a0TPn00000qfpbp
URL:https://mhahouston.org/event/fresh-start-free-daily-mindfulness-practice/2025-10-16/
CATEGORIES:Free,Training
ATTACH;FMTTYPE=image/png:https://mhahouston.org/wp-content/uploads/2025/08/free-daily-mindfulness.png
END:VEVENT
BEGIN:VEVENT
DTSTART;TZID=UTC:20251016T140000
DTEND;TZID=UTC:20251016T150000
DTSTAMP:20260424T160444
CREATED:20251010T160547Z
LAST-MODIFIED:20251010T161003Z
UID:10000739-1760623200-1760626800@mhahouston.org
SUMMARY:From Passion to Policy: Advocacy 101
DESCRIPTION:Have you ever wondered how personal stories can shift policies and transform communities? Are you ready to turn your passion into real change? \nJoin us on October 16\, 2025\, at 2 P.M. for a powerful advocacy training that will help you share your story\, influence policy\, and make your voice heard. \nFollow the link to register: https://www.tfaforms.com/4749944?tfa_1910=a0TPn000010eFY0
URL:https://mhahouston.org/event/251939/
CATEGORIES:Free,Training
ATTACH;FMTTYPE=image/png:https://mhahouston.org/wp-content/uploads/2025/10/Passion-to-Policy-Flyer-Presentation.png
END:VEVENT
BEGIN:VEVENT
DTSTART;TZID=UTC:20251017T073000
DTEND;TZID=UTC:20251017T074500
DTSTAMP:20260424T160444
CREATED:20250806T151844Z
LAST-MODIFIED:20260219T142307Z
UID:10000310-1760686200-1760687100@mhahouston.org
SUMMARY:Fresh Start: FREE Daily Mindfulness Practice
DESCRIPTION:Each day is an opportunity for a fresh start to live your life fully.  Practicing meditation in community to release unhelpful thoughts and quiet the mind can be strengthened by daily practice.  Join Ann\, Michele and Bela each morning for a 15-minute practice\, which will vary each day\, to make mindfulness part of your life. \n• Monday-Friday: Beginning September 8\, 2025\n• 7:30-7:45 a.m. \nRegistration link: https://www.tfaforms.com/4749944?tfa_1887=a0VPn00000D9KOD&tfa_1910=a0TPn00000qfpbp
URL:https://mhahouston.org/event/fresh-start-free-daily-mindfulness-practice/2025-10-17/
CATEGORIES:Free,Training
ATTACH;FMTTYPE=image/png:https://mhahouston.org/wp-content/uploads/2025/08/free-daily-mindfulness.png
END:VEVENT
BEGIN:VEVENT
DTSTART;TZID=UTC:20251017T110000
DTEND;TZID=UTC:20251017T130000
DTSTAMP:20260424T160444
CREATED:20250807T183205Z
LAST-MODIFIED:20250807T183205Z
UID:10000027-1760698800-1760706000@mhahouston.org
SUMMARY:Military Cultural Competency & Veteran Suicide Awareness
DESCRIPTION:This course is structured for volunteers or mentors that serve the veteran population and would like to explore peer and mentor support opportunities. The class provides awareness of the challenges related to military culture and its impact on service members\, veterans\, and their families. \n  \nEmail Edward Howard to register. \nehoward@mhahouston.org
URL:https://mhahouston.org/event/military-cultural-competency-veteran-suicide-awareness/2025-10-17/
LOCATION:Combined Arms\, 2929 McKinney St\, Houston\, TX\, 77407\, United States
CATEGORIES:Free,Training
ATTACH;FMTTYPE=image/png:https://mhahouston.org/wp-content/uploads/2025/08/Untitled-design-42.png
ORGANIZER;CN="Edward Howard":MAILTO:ehoward@mhahouston.org
END:VEVENT
BEGIN:VEVENT
DTSTART;TZID=UTC:20251020T073000
DTEND;TZID=UTC:20251020T074500
DTSTAMP:20260424T160444
CREATED:20250806T151844Z
LAST-MODIFIED:20260219T142307Z
UID:10000311-1760945400-1760946300@mhahouston.org
SUMMARY:Fresh Start: FREE Daily Mindfulness Practice
DESCRIPTION:Each day is an opportunity for a fresh start to live your life fully.  Practicing meditation in community to release unhelpful thoughts and quiet the mind can be strengthened by daily practice.  Join Ann\, Michele and Bela each morning for a 15-minute practice\, which will vary each day\, to make mindfulness part of your life. \n• Monday-Friday: Beginning September 8\, 2025\n• 7:30-7:45 a.m. \nRegistration link: https://www.tfaforms.com/4749944?tfa_1887=a0VPn00000D9KOD&tfa_1910=a0TPn00000qfpbp
URL:https://mhahouston.org/event/fresh-start-free-daily-mindfulness-practice/2025-10-20/
CATEGORIES:Free,Training
ATTACH;FMTTYPE=image/png:https://mhahouston.org/wp-content/uploads/2025/08/free-daily-mindfulness.png
END:VEVENT
BEGIN:VEVENT
DTSTART;TZID=UTC:20251021T073000
DTEND;TZID=UTC:20251021T074500
DTSTAMP:20260424T160444
CREATED:20250806T151844Z
LAST-MODIFIED:20260219T142307Z
UID:10000312-1761031800-1761032700@mhahouston.org
SUMMARY:Fresh Start: FREE Daily Mindfulness Practice
DESCRIPTION:Each day is an opportunity for a fresh start to live your life fully.  Practicing meditation in community to release unhelpful thoughts and quiet the mind can be strengthened by daily practice.  Join Ann\, Michele and Bela each morning for a 15-minute practice\, which will vary each day\, to make mindfulness part of your life. \n• Monday-Friday: Beginning September 8\, 2025\n• 7:30-7:45 a.m. \nRegistration link: https://www.tfaforms.com/4749944?tfa_1887=a0VPn00000D9KOD&tfa_1910=a0TPn00000qfpbp
URL:https://mhahouston.org/event/fresh-start-free-daily-mindfulness-practice/2025-10-21/
CATEGORIES:Free,Training
ATTACH;FMTTYPE=image/png:https://mhahouston.org/wp-content/uploads/2025/08/free-daily-mindfulness.png
END:VEVENT
BEGIN:VEVENT
DTSTART;TZID=UTC:20251022T073000
DTEND;TZID=UTC:20251022T074500
DTSTAMP:20260424T160444
CREATED:20250806T151844Z
LAST-MODIFIED:20260219T142307Z
UID:10000313-1761118200-1761119100@mhahouston.org
SUMMARY:Fresh Start: FREE Daily Mindfulness Practice
DESCRIPTION:Each day is an opportunity for a fresh start to live your life fully.  Practicing meditation in community to release unhelpful thoughts and quiet the mind can be strengthened by daily practice.  Join Ann\, Michele and Bela each morning for a 15-minute practice\, which will vary each day\, to make mindfulness part of your life. \n• Monday-Friday: Beginning September 8\, 2025\n• 7:30-7:45 a.m. \nRegistration link: https://www.tfaforms.com/4749944?tfa_1887=a0VPn00000D9KOD&tfa_1910=a0TPn00000qfpbp
URL:https://mhahouston.org/event/fresh-start-free-daily-mindfulness-practice/2025-10-22/
CATEGORIES:Free,Training
ATTACH;FMTTYPE=image/png:https://mhahouston.org/wp-content/uploads/2025/08/free-daily-mindfulness.png
END:VEVENT
BEGIN:VEVENT
DTSTART;TZID=UTC:20251023T073000
DTEND;TZID=UTC:20251023T074500
DTSTAMP:20260424T160444
CREATED:20250806T151844Z
LAST-MODIFIED:20260219T142307Z
UID:10000314-1761204600-1761205500@mhahouston.org
SUMMARY:Fresh Start: FREE Daily Mindfulness Practice
DESCRIPTION:Each day is an opportunity for a fresh start to live your life fully.  Practicing meditation in community to release unhelpful thoughts and quiet the mind can be strengthened by daily practice.  Join Ann\, Michele and Bela each morning for a 15-minute practice\, which will vary each day\, to make mindfulness part of your life. \n• Monday-Friday: Beginning September 8\, 2025\n• 7:30-7:45 a.m. \nRegistration link: https://www.tfaforms.com/4749944?tfa_1887=a0VPn00000D9KOD&tfa_1910=a0TPn00000qfpbp
URL:https://mhahouston.org/event/fresh-start-free-daily-mindfulness-practice/2025-10-23/
CATEGORIES:Free,Training
ATTACH;FMTTYPE=image/png:https://mhahouston.org/wp-content/uploads/2025/08/free-daily-mindfulness.png
END:VEVENT
BEGIN:VEVENT
DTSTART;TZID=UTC:20251024T073000
DTEND;TZID=UTC:20251024T074500
DTSTAMP:20260424T160444
CREATED:20250806T151844Z
LAST-MODIFIED:20260219T142307Z
UID:10000315-1761291000-1761291900@mhahouston.org
SUMMARY:Fresh Start: FREE Daily Mindfulness Practice
DESCRIPTION:Each day is an opportunity for a fresh start to live your life fully.  Practicing meditation in community to release unhelpful thoughts and quiet the mind can be strengthened by daily practice.  Join Ann\, Michele and Bela each morning for a 15-minute practice\, which will vary each day\, to make mindfulness part of your life. \n• Monday-Friday: Beginning September 8\, 2025\n• 7:30-7:45 a.m. \nRegistration link: https://www.tfaforms.com/4749944?tfa_1887=a0VPn00000D9KOD&tfa_1910=a0TPn00000qfpbp
URL:https://mhahouston.org/event/fresh-start-free-daily-mindfulness-practice/2025-10-24/
CATEGORIES:Free,Training
ATTACH;FMTTYPE=image/png:https://mhahouston.org/wp-content/uploads/2025/08/free-daily-mindfulness.png
END:VEVENT
BEGIN:VEVENT
DTSTART;TZID=UTC:20251024T110000
DTEND;TZID=UTC:20251024T130000
DTSTAMP:20260424T160444
CREATED:20250807T183205Z
LAST-MODIFIED:20250807T183205Z
UID:10000028-1761303600-1761310800@mhahouston.org
SUMMARY:Military Cultural Competency & Veteran Suicide Awareness
DESCRIPTION:This course is structured for volunteers or mentors that serve the veteran population and would like to explore peer and mentor support opportunities. The class provides awareness of the challenges related to military culture and its impact on service members\, veterans\, and their families. \n  \nEmail Edward Howard to register. \nehoward@mhahouston.org
URL:https://mhahouston.org/event/military-cultural-competency-veteran-suicide-awareness/2025-10-24/
LOCATION:Combined Arms\, 2929 McKinney St\, Houston\, TX\, 77407\, United States
CATEGORIES:Free,Training
ATTACH;FMTTYPE=image/png:https://mhahouston.org/wp-content/uploads/2025/08/Untitled-design-42.png
ORGANIZER;CN="Edward Howard":MAILTO:ehoward@mhahouston.org
END:VEVENT
BEGIN:VEVENT
DTSTART;TZID=UTC:20251027T073000
DTEND;TZID=UTC:20251027T074500
DTSTAMP:20260424T160444
CREATED:20250806T151844Z
LAST-MODIFIED:20260219T142307Z
UID:10000316-1761550200-1761551100@mhahouston.org
SUMMARY:Fresh Start: FREE Daily Mindfulness Practice
DESCRIPTION:Each day is an opportunity for a fresh start to live your life fully.  Practicing meditation in community to release unhelpful thoughts and quiet the mind can be strengthened by daily practice.  Join Ann\, Michele and Bela each morning for a 15-minute practice\, which will vary each day\, to make mindfulness part of your life. \n• Monday-Friday: Beginning September 8\, 2025\n• 7:30-7:45 a.m. \nRegistration link: https://www.tfaforms.com/4749944?tfa_1887=a0VPn00000D9KOD&tfa_1910=a0TPn00000qfpbp
URL:https://mhahouston.org/event/fresh-start-free-daily-mindfulness-practice/2025-10-27/
CATEGORIES:Free,Training
ATTACH;FMTTYPE=image/png:https://mhahouston.org/wp-content/uploads/2025/08/free-daily-mindfulness.png
END:VEVENT
BEGIN:VEVENT
DTSTART;TZID=UTC:20251028T073000
DTEND;TZID=UTC:20251028T074500
DTSTAMP:20260424T160444
CREATED:20250806T151844Z
LAST-MODIFIED:20260219T142307Z
UID:10000317-1761636600-1761637500@mhahouston.org
SUMMARY:Fresh Start: FREE Daily Mindfulness Practice
DESCRIPTION:Each day is an opportunity for a fresh start to live your life fully.  Practicing meditation in community to release unhelpful thoughts and quiet the mind can be strengthened by daily practice.  Join Ann\, Michele and Bela each morning for a 15-minute practice\, which will vary each day\, to make mindfulness part of your life. \n• Monday-Friday: Beginning September 8\, 2025\n• 7:30-7:45 a.m. \nRegistration link: https://www.tfaforms.com/4749944?tfa_1887=a0VPn00000D9KOD&tfa_1910=a0TPn00000qfpbp
URL:https://mhahouston.org/event/fresh-start-free-daily-mindfulness-practice/2025-10-28/
CATEGORIES:Free,Training
ATTACH;FMTTYPE=image/png:https://mhahouston.org/wp-content/uploads/2025/08/free-daily-mindfulness.png
END:VEVENT
BEGIN:VEVENT
DTSTART;TZID=UTC:20251029T073000
DTEND;TZID=UTC:20251029T074500
DTSTAMP:20260424T160444
CREATED:20250806T151844Z
LAST-MODIFIED:20260219T142307Z
UID:10000318-1761723000-1761723900@mhahouston.org
SUMMARY:Fresh Start: FREE Daily Mindfulness Practice
DESCRIPTION:Each day is an opportunity for a fresh start to live your life fully.  Practicing meditation in community to release unhelpful thoughts and quiet the mind can be strengthened by daily practice.  Join Ann\, Michele and Bela each morning for a 15-minute practice\, which will vary each day\, to make mindfulness part of your life. \n• Monday-Friday: Beginning September 8\, 2025\n• 7:30-7:45 a.m. \nRegistration link: https://www.tfaforms.com/4749944?tfa_1887=a0VPn00000D9KOD&tfa_1910=a0TPn00000qfpbp
URL:https://mhahouston.org/event/fresh-start-free-daily-mindfulness-practice/2025-10-29/
CATEGORIES:Free,Training
ATTACH;FMTTYPE=image/png:https://mhahouston.org/wp-content/uploads/2025/08/free-daily-mindfulness.png
END:VEVENT
BEGIN:VEVENT
DTSTART;TZID=UTC:20251030T073000
DTEND;TZID=UTC:20251030T074500
DTSTAMP:20260424T160444
CREATED:20250806T151844Z
LAST-MODIFIED:20260219T142307Z
UID:10000319-1761809400-1761810300@mhahouston.org
SUMMARY:Fresh Start: FREE Daily Mindfulness Practice
DESCRIPTION:Each day is an opportunity for a fresh start to live your life fully.  Practicing meditation in community to release unhelpful thoughts and quiet the mind can be strengthened by daily practice.  Join Ann\, Michele and Bela each morning for a 15-minute practice\, which will vary each day\, to make mindfulness part of your life. \n• Monday-Friday: Beginning September 8\, 2025\n• 7:30-7:45 a.m. \nRegistration link: https://www.tfaforms.com/4749944?tfa_1887=a0VPn00000D9KOD&tfa_1910=a0TPn00000qfpbp
URL:https://mhahouston.org/event/fresh-start-free-daily-mindfulness-practice/2025-10-30/
CATEGORIES:Free,Training
ATTACH;FMTTYPE=image/png:https://mhahouston.org/wp-content/uploads/2025/08/free-daily-mindfulness.png
END:VEVENT
BEGIN:VEVENT
DTSTART;TZID=UTC:20251030T140000
DTEND;TZID=UTC:20251030T150000
DTSTAMP:20260424T160444
CREATED:20251022T144721Z
LAST-MODIFIED:20251022T145114Z
UID:10000740-1761832800-1761836400@mhahouston.org
SUMMARY:From Passion to Policy: Advocacy 101
DESCRIPTION:Have you ever wondered how personal stories can shift policies and transform communities? Are you ready to turn your passion into real change? \nJoin us on October 30\, 2025\, at 2 P.M. for a powerful advocacy training that will help you share your story\, influence policy\, and make your voice heard. \nFollow the link to register: https://www.tfaforms.com/4749944?tfa_1910=a0TPn000010eFY0
URL:https://mhahouston.org/event/from-passion-to-policy-advocacy-101/
CATEGORIES:Free
ATTACH;FMTTYPE=image/png:https://mhahouston.org/wp-content/uploads/2025/10/Passion-to-Policy-Flyer-Presentation-1.png
END:VEVENT
BEGIN:VEVENT
DTSTART;TZID=UTC:20251031T073000
DTEND;TZID=UTC:20251031T074500
DTSTAMP:20260424T160444
CREATED:20250806T151844Z
LAST-MODIFIED:20260219T142307Z
UID:10000320-1761895800-1761896700@mhahouston.org
SUMMARY:Fresh Start: FREE Daily Mindfulness Practice
DESCRIPTION:Each day is an opportunity for a fresh start to live your life fully.  Practicing meditation in community to release unhelpful thoughts and quiet the mind can be strengthened by daily practice.  Join Ann\, Michele and Bela each morning for a 15-minute practice\, which will vary each day\, to make mindfulness part of your life. \n• Monday-Friday: Beginning September 8\, 2025\n• 7:30-7:45 a.m. \nRegistration link: https://www.tfaforms.com/4749944?tfa_1887=a0VPn00000D9KOD&tfa_1910=a0TPn00000qfpbp
URL:https://mhahouston.org/event/fresh-start-free-daily-mindfulness-practice/2025-10-31/
CATEGORIES:Free,Training
ATTACH;FMTTYPE=image/png:https://mhahouston.org/wp-content/uploads/2025/08/free-daily-mindfulness.png
END:VEVENT
END:VCALENDAR