BEGIN:VCALENDAR
VERSION:2.0
PRODID:-//Mental Health America of Greater Houston - ECPv6.15.14//NONSGML v1.0//EN
CALSCALE:GREGORIAN
METHOD:PUBLISH
X-WR-CALNAME:Mental Health America of Greater Houston
X-ORIGINAL-URL:https://mhahouston.org
X-WR-CALDESC:Events for Mental Health America of Greater Houston
REFRESH-INTERVAL;VALUE=DURATION:PT1H
X-Robots-Tag:noindex
X-PUBLISHED-TTL:PT1H
BEGIN:VTIMEZONE
TZID:UTC
BEGIN:STANDARD
TZOFFSETFROM:+0000
TZOFFSETTO:+0000
TZNAME:UTC
DTSTART:20230101T000000
END:STANDARD
END:VTIMEZONE
BEGIN:VEVENT
DTSTART;TZID=UTC:20240502T120000
DTEND;TZID=UTC:20240502T130000
DTSTAMP:20260425T024934
CREATED:20240411T220550Z
LAST-MODIFIED:20240412T183247Z
UID:10000001-1714651200-1714654800@mhahouston.org
SUMMARY:Free Virtual Training - Intro to Integrated Behavioral Health
DESCRIPTION:Free virtual training for anyone interested in learning about Integrated Behavioral Health. Register using the link below: \n\nhttps://bit.ly/4ciCqb4
URL:https://mhahouston.org/event/free-virtual-training-intro-to-integrated-behavioral-health/
CATEGORIES:Training
ATTACH;FMTTYPE=image/png:https://mhahouston.org/wp-content/uploads/2024/04/events-training.png
END:VEVENT
END:VCALENDAR