BEGIN:VCALENDAR
VERSION:2.0
PRODID:-//Mental Health America of Greater Houston - ECPv6.15.14//NONSGML v1.0//EN
CALSCALE:GREGORIAN
METHOD:PUBLISH
X-WR-CALNAME:Mental Health America of Greater Houston
X-ORIGINAL-URL:https://mhahouston.org
X-WR-CALDESC:Events for Mental Health America of Greater Houston
REFRESH-INTERVAL;VALUE=DURATION:PT1H
X-Robots-Tag:noindex
X-PUBLISHED-TTL:PT1H
BEGIN:VTIMEZONE
TZID:UTC
BEGIN:STANDARD
TZOFFSETFROM:+0000
TZOFFSETTO:+0000
TZNAME:UTC
DTSTART:20230101T000000
END:STANDARD
END:VTIMEZONE
BEGIN:VEVENT
DTSTART;TZID=UTC:20250829T110000
DTEND;TZID=UTC:20250829T130000
DTSTAMP:20260424T203556
CREATED:20250807T183205Z
LAST-MODIFIED:20250807T183205Z
UID:10000020-1756465200-1756472400@mhahouston.org
SUMMARY:Military Cultural Competency & Veteran Suicide Awareness
DESCRIPTION:This course is structured for volunteers or mentors that serve the veteran population and would like to explore peer and mentor support opportunities. The class provides awareness of the challenges related to military culture and its impact on service members\, veterans\, and their families. \n  \nEmail Edward Howard to register. \nehoward@mhahouston.org
URL:https://mhahouston.org/event/military-cultural-competency-veteran-suicide-awareness/2025-08-29/
LOCATION:Combined Arms\, 2929 McKinney St\, Houston\, TX\, 77407\, United States
CATEGORIES:Free,Training
ATTACH;FMTTYPE=image/png:https://mhahouston.org/wp-content/uploads/2025/08/Untitled-design-42.png
ORGANIZER;CN="Edward Howard":MAILTO:ehoward@mhahouston.org
END:VEVENT
BEGIN:VEVENT
DTSTART;TZID=UTC:20250825T170000
DTEND;TZID=UTC:20250825T181500
DTSTAMP:20260424T203556
CREATED:20250807T183709Z
LAST-MODIFIED:20250808T144803Z
UID:10000276-1756141200-1756145700@mhahouston.org
SUMMARY:Mindfulness Essential for Stress Reduction
DESCRIPTION:Have you experienced stress\, anxiety\, sleepless nights\, worrying about work\, relationships\, or physical / emotional challenges?  Research has shown that the practice of mindfulness can: * Reduce stress\, anxiety and depression; * Improve attention and focus; * Reduce reaction to physical pain; * Improve sleep; *Help meet needs which underlie strong emotions; and * Promote a sense of well-being. \nIn this 6-week series\, you will learn tools that you can practice anywhere\, anytime to address these issues.  Each session offers background information\, guided experiential practices\, discussion and observations. Gratitude\, compassion\, loving kindness and other states of spirit are integrated into the teachings. \nClasses:  1). relax the body through breath and be more mindful in daily activities; 2). train your drifting mind for better focus and attention through breath\, sound and body movement; 3). sleep better; 4). reduce physical pain and/or your reaction to it; 5). calm difficult emotions; and 6) notice and challenge unhelpful thoughts.
URL:https://mhahouston.org/event/mindfulness-essential-for-stress-reduction/2025-08-25/
CATEGORIES:Training
ATTACH;FMTTYPE=image/jpeg:https://mhahouston.org/wp-content/uploads/2025/08/shutterstock_2142365187-scaled.jpg
END:VEVENT
BEGIN:VEVENT
DTSTART;TZID=UTC:20250822T110000
DTEND;TZID=UTC:20250822T130000
DTSTAMP:20260424T203556
CREATED:20250807T183205Z
LAST-MODIFIED:20250807T183205Z
UID:10000019-1755860400-1755867600@mhahouston.org
SUMMARY:Military Cultural Competency & Veteran Suicide Awareness
DESCRIPTION:This course is structured for volunteers or mentors that serve the veteran population and would like to explore peer and mentor support opportunities. The class provides awareness of the challenges related to military culture and its impact on service members\, veterans\, and their families. \n  \nEmail Edward Howard to register. \nehoward@mhahouston.org
URL:https://mhahouston.org/event/military-cultural-competency-veteran-suicide-awareness/2025-08-22/
LOCATION:Combined Arms\, 2929 McKinney St\, Houston\, TX\, 77407\, United States
CATEGORIES:Free,Training
ATTACH;FMTTYPE=image/png:https://mhahouston.org/wp-content/uploads/2025/08/Untitled-design-42.png
ORGANIZER;CN="Edward Howard":MAILTO:ehoward@mhahouston.org
END:VEVENT
BEGIN:VEVENT
DTSTART;TZID=UTC:20250815T110000
DTEND;TZID=UTC:20250815T130000
DTSTAMP:20260424T203556
CREATED:20250807T183205Z
LAST-MODIFIED:20250807T183205Z
UID:10000018-1755255600-1755262800@mhahouston.org
SUMMARY:Military Cultural Competency & Veteran Suicide Awareness
DESCRIPTION:This course is structured for volunteers or mentors that serve the veteran population and would like to explore peer and mentor support opportunities. The class provides awareness of the challenges related to military culture and its impact on service members\, veterans\, and their families. \n  \nEmail Edward Howard to register. \nehoward@mhahouston.org
URL:https://mhahouston.org/event/military-cultural-competency-veteran-suicide-awareness/2025-08-15/
LOCATION:Combined Arms\, 2929 McKinney St\, Houston\, TX\, 77407\, United States
CATEGORIES:Free,Training
ATTACH;FMTTYPE=image/png:https://mhahouston.org/wp-content/uploads/2025/08/Untitled-design-42.png
ORGANIZER;CN="Edward Howard":MAILTO:ehoward@mhahouston.org
END:VEVENT
BEGIN:VEVENT
DTSTART;TZID=UTC:20250808T110000
DTEND;TZID=UTC:20250808T130000
DTSTAMP:20260424T203556
CREATED:20250807T183205Z
LAST-MODIFIED:20250807T183205Z
UID:10000017-1754650800-1754658000@mhahouston.org
SUMMARY:Military Cultural Competency & Veteran Suicide Awareness
DESCRIPTION:This course is structured for volunteers or mentors that serve the veteran population and would like to explore peer and mentor support opportunities. The class provides awareness of the challenges related to military culture and its impact on service members\, veterans\, and their families. \n  \nEmail Edward Howard to register. \nehoward@mhahouston.org
URL:https://mhahouston.org/event/military-cultural-competency-veteran-suicide-awareness/2025-08-08/
LOCATION:Combined Arms\, 2929 McKinney St\, Houston\, TX\, 77407\, United States
CATEGORIES:Free,Training
ATTACH;FMTTYPE=image/png:https://mhahouston.org/wp-content/uploads/2025/08/Untitled-design-42.png
ORGANIZER;CN="Edward Howard":MAILTO:ehoward@mhahouston.org
END:VEVENT
BEGIN:VEVENT
DTSTART;TZID=UTC:20250726T100000
DTEND;TZID=UTC:20250726T163000
DTSTAMP:20260424T203556
CREATED:20250717T185938Z
LAST-MODIFIED:20250717T185938Z
UID:10000015-1753524000-1753547400@mhahouston.org
SUMMARY:The Policy Lab - Civic Empowerment Workshop
DESCRIPTION:Young people today are more informed than any generation before\, and they’re also facing more pressure than ever. While mental health messages often encourage young people to “take a break\,” what if we gave them tools to lean in as another option? That’s the idea behind The Policy Lab\, a free\, one-day civic empowerment workshop hosted by the Advocacy & Public Policy team at Mental Health America of Greater Houston.\n\nDesigned for youth ages 13–17\, this interactive workshop uses the power of civic engagement\, STEM\, and entrepreneurship to support mental wellness\, leadership\, and real-world impact.\n\n\n\nParticipants will:\n-Learn how to manage stress through action\, not avoidance\n-Explore their “locus of control”\n-Apply STEM and problem-solving skills to issues they care about\n-Collaborate in teams and pitch bold ideas for community change\n\n\n\nRegister today! https://bit.ly/thepolicylab
URL:https://mhahouston.org/event/the-policy-lab-civic-empowerment-workshop/
LOCATION:Smith Neighborhood Library\, 3624 Scott St.\, Houston\, TX\, 77004\, United States
ATTACH;FMTTYPE=image/png:https://mhahouston.org/wp-content/uploads/2025/07/The-Policy-Lab-Marketing-Social-Media-Post.png
END:VEVENT
BEGIN:VEVENT
DTSTART;TZID=UTC:20250517T130000
DTEND;TZID=UTC:20250517T140000
DTSTAMP:20260424T203556
CREATED:20250502T160507Z
LAST-MODIFIED:20250502T160507Z
UID:10000014-1747486800-1747490400@mhahouston.org
SUMMARY:#NoFilter: A Youth-Led Mental Health and Art Panel Discussion
DESCRIPTION:Join us Saturday\, May 17\, at 1 P.M. for a powerful livestream panel discussion led by Mental Health America of Greater Houston’s Youth Advisory Board and featuring the talented winners of our 9th Annual Youth Art Showcase. \nHear from young creators as they explore the connection between mental health and artistic expression\, share their personal journeys\, and discuss how creativity can inspire healing and change. Don’t miss this unique\, youth-driven conversation.
URL:https://mhahouston.org/event/nofilter-a-youth-led-mental-health-and-art-panel-discussion/
CATEGORIES:Free
ATTACH;FMTTYPE=image/png:https://mhahouston.org/wp-content/uploads/2025/05/YASC-Livestream-flyer-1920-x-1080-px.png
END:VEVENT
BEGIN:VEVENT
DTSTART;TZID=UTC:20250425T140000
DTEND;TZID=UTC:20250425T150000
DTSTAMP:20260424T203556
CREATED:20250418T184217Z
LAST-MODIFIED:20250418T184414Z
UID:10000013-1745589600-1745593200@mhahouston.org
SUMMARY:From Passion to Policy
DESCRIPTION:Ever wondered how personal stories can shift policies and transform communities? Join us for an empowering training that will turn your lived experience or your passion for supporting those who have them—into powerful advocacy skills.  \nWhether you’re new to advocacy or looking to deepen your impact\, this engaging session will guide you in mastering the essentials of personal\, community\, and systemic advocacy. Learn how to navigate local and state legislatures\, effectively engage decision-makers\, and ensure your voice is not just heard\, but remembered. Together\, let’s turn passion into policies that matter! \nRegister here: https://bit.ly/passiontopolicy
URL:https://mhahouston.org/event/from-passion-to-policy/
CATEGORIES:Free,Training
ATTACH;FMTTYPE=image/png:https://mhahouston.org/wp-content/uploads/2025/04/Passion-to-policy-Presentation.png
END:VEVENT
BEGIN:VEVENT
DTSTART;TZID=UTC:20250226T120000
DTEND;TZID=UTC:20250226T130000
DTSTAMP:20260424T203556
CREATED:20250206T181306Z
LAST-MODIFIED:20250206T194221Z
UID:10000011-1740571200-1740574800@mhahouston.org
SUMMARY:Prioritize YOU: A Self-Care Workshop- Virtual & Free
DESCRIPTION:Stress and burnout don’t have to be the norm. Join us for Prioritizing Your Self-Care\, a workshop designed to help you recognize the impact of stress\, identify burnout symptoms\, and create a personalized self-care action plan. \nWhat You’ll Gain: \n-A deeper understanding of stress & burnout \n-Tools to recognize early warning signs \n-A tailored self-care strategy that fits your lifestyle \n📅 February 26\, 2025 \n12:00 PM CST to 1:00PM CST \nRegister now: Registration Link for Prioritizing Your Self Care
URL:https://mhahouston.org/event/prioritize-you-a-self-care-workshop/
CATEGORIES:Free,Training
ATTACH;FMTTYPE=image/png:https://mhahouston.org/wp-content/uploads/2025/02/Website-Event-Page-1.png
END:VEVENT
BEGIN:VEVENT
DTSTART;TZID=UTC:20250219T120000
DTEND;TZID=UTC:20250219T130000
DTSTAMP:20260424T203556
CREATED:20250206T151132Z
LAST-MODIFIED:20250207T185820Z
UID:10000010-1739966400-1739970000@mhahouston.org
SUMMARY:Learning About Mental Health- Virtual & Free
DESCRIPTION:Mental health affects us all—whether you’re supporting loved ones\, colleagues\, or community members. Join Learning About Mental Health\, a workshop designed to provide a foundational understanding of mental health concepts. \n-Explore common mental health disorders \n-Learn to recognize signs and symptoms \n-Discover resources to support those in need \nThis session is open to community members\, first responders\, and professionals who want to deepen their awareness and make a difference. \n📅 Feb 19th\, 2024 from 12:00pm-1:00pm  \nUse the following link to invite prospective attendees to register: \nRegistration Link for Learning About Mental Health \n 
URL:https://mhahouston.org/event/learning-about-mental-health/
CATEGORIES:Free,Training
ATTACH;FMTTYPE=image/png:https://mhahouston.org/wp-content/uploads/2025/02/Website-Event-Page-2.png
END:VEVENT
BEGIN:VEVENT
DTSTART;TZID=UTC:20250212T120000
DTEND;TZID=UTC:20250212T124000
DTSTAMP:20260424T203556
CREATED:20250124T204945Z
LAST-MODIFIED:20250206T193915Z
UID:10000009-1739361600-1739364000@mhahouston.org
SUMMARY:Setting Realistic and Meaningful Goals to Enhance Mental Health- Virtual & Free
DESCRIPTION:Join us on February 12 at 12 PM for a free\, 40-minute session: Setting Realistic and Meaningful Goals for the New Year to Enhance Mental Health \nDiscover how intentional goal setting can help reduce stress\, boost motivation\, and build emotional resilience. \nWhat You’ll Learn: \n\nHow to create actionable and achievable goals that align with your values\nProven strategies like SMART goals to turn aspirations into reality\nThe connection between effective goal-setting and improved mental well-being.\n\nLeave this session feeling inspired and equipped to make 2025 your most focused and fulfilling year yet.
URL:https://mhahouston.org/event/setting-realistic-and-meaningful-goals-to-enhance-mental-health/
CATEGORIES:Free,Training
ATTACH;FMTTYPE=image/png:https://mhahouston.org/wp-content/uploads/2025/01/Untitled-design-4.png
END:VEVENT
BEGIN:VEVENT
DTSTART;TZID=UTC:20240815T100000
DTEND;TZID=UTC:20240815T110000
DTSTAMP:20260424T203556
CREATED:20240805T200240Z
LAST-MODIFIED:20240805T200240Z
UID:10000008-1723716000-1723719600@mhahouston.org
SUMMARY:Fort Bend Provider Engagement Session
DESCRIPTION:Join us to learn about a multi-tiered program that will increase individuals’ and families’ access to mental health services and supports through online resources\, live referrals\, and personalized navigation. \n\n\nProgram components\nHow it will expand access to behavioral health services\nHow participating can benefit your practice/organization\n\n\n\nFor more information\, email Aleena Jacob at ajacob@mhahouston.org \n\nRSVP HERE
URL:https://mhahouston.org/event/fort-bend-provider-engagement-session/
ATTACH;FMTTYPE=image/jpeg:https://mhahouston.org/wp-content/uploads/2024/06/shutterstock_2313620115-scaled.jpg
END:VEVENT
BEGIN:VEVENT
DTSTART;TZID=UTC:20240531T100000
DTEND;TZID=UTC:20240531T120000
DTSTAMP:20260424T203556
CREATED:20240424T143536Z
LAST-MODIFIED:20240429T161914Z
UID:10000006-1717149600-1717156800@mhahouston.org
SUMMARY:Self-Care Session
DESCRIPTION:This event will include Prioritizing Your Self Care training\, a mindfulness session\, as well as “make and take” aromatherapy session. \nUse the link to register: Self-care event
URL:https://mhahouston.org/event/self-care-session/
LOCATION:United Way of Greater Houston\, Conference Center\, Fort Bend\, 12300 Parc Crest Dr\, Stafford\, Texas\, 77477
ATTACH;FMTTYPE=image/png:https://mhahouston.org/wp-content/uploads/2024/04/events-image.png
END:VEVENT
BEGIN:VEVENT
DTSTART;TZID=UTC:20240516T173000
DTEND;TZID=UTC:20240516T190000
DTSTAMP:20260424T203556
CREATED:20240430T133838Z
LAST-MODIFIED:20240430T144327Z
UID:10000007-1715880600-1715886000@mhahouston.org
SUMMARY:For the Health of It
DESCRIPTION:Join us for a collaboration with the Health Museum as we delve into the impact of drugs on mental health. This event will offer a unique opportunity to interact with professionals on a panel. Light bites will be served. \nHosted by Dr. Jamie Freeny with panelist Sharifa Charles\, both from The Center for School Behavioral Health at MHA of Greater Houston. \nGain insight into real-life experiences and perspectives\, fostering enlightening conversations. This event is free and open to the public. \nFor more information and to register\, follow this link. 
URL:https://mhahouston.org/event/for-the-health-of-it/
ATTACH;FMTTYPE=image/png:https://mhahouston.org/wp-content/uploads/2024/04/events-image-3.png
END:VEVENT
BEGIN:VEVENT
DTSTART;TZID=UTC:20240516T100000
DTEND;TZID=UTC:20240516T130000
DTSTAMP:20260424T203556
CREATED:20240424T143028Z
LAST-MODIFIED:20240424T143028Z
UID:10000005-1715853600-1715864400@mhahouston.org
SUMMARY:AS+K Suicide Prevention Training
DESCRIPTION:AS+K About Suicide To Save A Life (Basic) provides participants with an overview of the basic epidemiology of suicide and suicidal behavior\, including risk and protective factors. In this course\, participants are trained to recognize warning signs—behaviors and characteristics that might indicate elevated risk for suicidal behavior—and the initial intervention steps to support a person they think might be at risk for suicide. Please note this course is designed for public health information purposes only and is not designed to assess\, screen\, diagnose or treat any mental or physical health condition. \n  \nRegister using the link below: \nAS+K About Suicide To Save A Life (Basic) provides participants with an overview of the basic epidemiology of suicide and suicidal behavior\, including risk and protective factors. In this one-hour e-learning based course\, participants are trained to recognize warning signs—behaviors and characteristics that might indicate elevated risk for suicidal behavior—and the initial intervention steps to support a person they think might be at risk for suicide. Please note this course is designed for public health information purposes only and is not designed to assess\, screen\, diagnose or treat any mental or physical health condition.
URL:https://mhahouston.org/event/ask-suicide-prevention-training/
LOCATION:Combined Arms\, 2929 McKinney St\, Houston\, TX\, 77407\, United States
CATEGORIES:Training
ATTACH;FMTTYPE=image/png:https://mhahouston.org/wp-content/uploads/2024/04/events-training.png
END:VEVENT
BEGIN:VEVENT
DTSTART;TZID=UTC:20240511T110000
DTEND;TZID=UTC:20240511T123000
DTSTAMP:20260424T203556
CREATED:20240424T142435Z
LAST-MODIFIED:20240430T144527Z
UID:10000004-1715425200-1715430600@mhahouston.org
SUMMARY:Youth Art Showcase Awards Ceremony
DESCRIPTION:Join Mental Health America of Greater Houston and Houston Public Library as we highlight art created by youth from the Greater Houston Area. You are invited to join us in person at the Central Houston Public Library or virtually via Facebook for this year’s Awards Ceremony on May 11th\, at 11 am – 12:30 p.m. Winners will be announced via email prior to the event. RSVP for in-person ceremony \nIf you can’t make it in person\, register for the hybrid version that will be streamed to MHA of Greater Houston’s and HPL’s Facebook page here: RSVP for Virtual Option \nVisit one of these locations to view this year’s submissions: \n\nCentral Library | 4th Floor\nAlief-David M. Henington Regional Library\nCollier Regional Library\nStimley-Blue Ridge Neighborhood Library\n\n 
URL:https://mhahouston.org/event/youth-art-showcase-awards-ceremony/
LOCATION:Houston Public Library\, 500 Mckinney St.\, Houston\, Texas\, 77002
ATTACH;FMTTYPE=image/png:https://mhahouston.org/wp-content/uploads/2024/04/events-image-1.png
END:VEVENT
BEGIN:VEVENT
DTSTART;TZID=UTC:20240507T100000
DTEND;TZID=UTC:20240507T130000
DTSTAMP:20260424T203556
CREATED:20240411T222105Z
LAST-MODIFIED:20240426T140021Z
UID:10000003-1715076000-1715086800@mhahouston.org
SUMMARY:Free Training - Military Cultural Competency
DESCRIPTION:The class provides awareness of the challenges related to military culture and its impact on service members\, veterans\, and their families. \n  \nRegister here
URL:https://mhahouston.org/event/free-training-military-cultural-competency/
LOCATION:Combined Arms\, 2929 McKinney St\, Houston\, TX\, 77407\, United States
CATEGORIES:Training
ATTACH;FMTTYPE=image/png:https://mhahouston.org/wp-content/uploads/2024/04/events-training.png
END:VEVENT
BEGIN:VEVENT
DTSTART;TZID=UTC:20240504T100000
DTEND;TZID=UTC:20240504T140000
DTSTAMP:20260424T203556
CREATED:20240411T221225Z
LAST-MODIFIED:20240424T191244Z
UID:10000002-1714816800-1714831200@mhahouston.org
SUMMARY:Health and Wellness Fair
DESCRIPTION:
URL:https://mhahouston.org/event/health-and-wellness-fair/
LOCATION:Forest Brook Middle School\, 7525 Tidwell Rd\, Houston\, TX\, 77016\, United States
CATEGORIES:Fair
ATTACH;FMTTYPE=image/png:https://mhahouston.org/wp-content/uploads/2024/04/events-image-2.png
END:VEVENT
BEGIN:VEVENT
DTSTART;TZID=UTC:20240502T120000
DTEND;TZID=UTC:20240502T130000
DTSTAMP:20260424T203556
CREATED:20240411T220550Z
LAST-MODIFIED:20240412T183247Z
UID:10000001-1714651200-1714654800@mhahouston.org
SUMMARY:Free Virtual Training - Intro to Integrated Behavioral Health
DESCRIPTION:Free virtual training for anyone interested in learning about Integrated Behavioral Health. Register using the link below: \n\nhttps://bit.ly/4ciCqb4
URL:https://mhahouston.org/event/free-virtual-training-intro-to-integrated-behavioral-health/
CATEGORIES:Training
ATTACH;FMTTYPE=image/png:https://mhahouston.org/wp-content/uploads/2024/04/events-training.png
END:VEVENT
END:VCALENDAR