BEGIN:VCALENDAR
VERSION:2.0
PRODID:-//Mental Health America of Greater Houston - ECPv6.15.14//NONSGML v1.0//EN
CALSCALE:GREGORIAN
METHOD:PUBLISH
X-WR-CALNAME:Mental Health America of Greater Houston
X-ORIGINAL-URL:https://mhahouston.org
X-WR-CALDESC:Events for Mental Health America of Greater Houston
REFRESH-INTERVAL;VALUE=DURATION:PT1H
X-Robots-Tag:noindex
X-PUBLISHED-TTL:PT1H
BEGIN:VTIMEZONE
TZID:UTC
BEGIN:STANDARD
TZOFFSETFROM:+0000
TZOFFSETTO:+0000
TZNAME:UTC
DTSTART:20250101T000000
END:STANDARD
END:VTIMEZONE
BEGIN:VEVENT
DTSTART;TZID=UTC:20260408T180000
DTEND;TZID=UTC:20260505T193000
DTSTAMP:20260425T024317
CREATED:20260114T224925Z
LAST-MODIFIED:20260217T215319Z
UID:10000825-1775671200-1778009400@mhahouston.org
SUMMARY:Wellness 2026: Practices for Physical\, Mental\, and Emotional Resilience (In Person)
DESCRIPTION:This 5-week series meets 90 minutes weekly in person for interactive\, experiential lessons based on scientific research supporting the benefits of mindfulness.  Mindfulness has been found to be so empowering that it is being offered by the US Military\, the US Veteran’s Administration\, and companies like Google\, General Mills\, Intel\, Aetna\, Goldman Sachs\, AstraZeneca\, and The Johns Hopkins Hospital. \nLearn tools to: \n\nrelax the body and lower blood pressure;\ntrain for focus and attention\, building gray matter in 8 key areas of your brain;\nimprove sleep;\nbe with physical pain\, often reducing or eliminating it;\ncalm anxiety\, fear\, uncertainty\, hurt\, and other difficult emotions;\nquestion and release unhelpful thoughts.\n\n\n\n\nIN PERSON\n• Wednesdays\, April 8 – May 5\n• 6:00 – 7:30 pm CT \nRegister Here: https://www.tfaforms.com/4749944?tfa_1887=a0VPn00000On4sg&tfa_1910=a0TPn00001OVgl9
URL:https://mhahouston.org/event/wellness-2026-practices-for-physical-mental-and-emotional-resilience-2/2026-04-08/
ATTACH;FMTTYPE=image/jpeg:https://mhahouston.org/wp-content/uploads/2026/01/beach-meditate.jpg
END:VEVENT
BEGIN:VEVENT
DTSTART;TZID=UTC:20260413T180000
DTEND;TZID=UTC:20260505T193000
DTSTAMP:20260425T024317
CREATED:20260217T214946Z
LAST-MODIFIED:20260317T035325Z
UID:10000840-1776103200-1778009400@mhahouston.org
SUMMARY:Wellness 2026: Practices for Physical\, Mental\, and Emotional Resilience (Virtual)
DESCRIPTION:This 5-week series meets virtually for 90 minutes weekly for interactive\, experiential lessons based on scientific research supporting the benefits of mindfulness.  Mindfulness has been found to be so empowering that it is being offered by the US Military\, the US Veteran’s Administration\, and companies like Google\, General Mills\, Intel\, Aetna\, Goldman Sachs\, AstraZeneca\, and The Johns Hopkins Hospital. \nLearn tools to: \n\nrelax the body and lower blood pressure;\ntrain for focus and attention\, building gray matter in 8 key areas of your brain;\nimprove sleep;\nbe with physical pain\, often reducing or eliminating it;\ncalm anxiety\, fear\, uncertainty\, hurt\, and other difficult emotions;\nquestion and release unhelpful thoughts.\n\n\n\n\nONLINE\n• Mondays\, April 13 – May 1\n• 6:00 – 7:30 pm CT \nRegister Here: https://www.tfaforms.com/4749944?tfa_1910=a0TPn00001OYoqb
URL:https://mhahouston.org/event/wellness-2026-practices-for-physical-mental-and-emotional-resilience/2026-04-13/
CATEGORIES:Training
ATTACH;FMTTYPE=image/jpeg:https://mhahouston.org/wp-content/uploads/2026/01/beach-meditate.jpg
END:VEVENT
BEGIN:VEVENT
DTSTART;TZID=UTC:20260415T180000
DTEND;TZID=UTC:20260512T193000
DTSTAMP:20260425T024317
CREATED:20260114T224925Z
LAST-MODIFIED:20260217T215319Z
UID:10000826-1776276000-1778614200@mhahouston.org
SUMMARY:Wellness 2026: Practices for Physical\, Mental\, and Emotional Resilience (In Person)
DESCRIPTION:This 5-week series meets 90 minutes weekly in person for interactive\, experiential lessons based on scientific research supporting the benefits of mindfulness.  Mindfulness has been found to be so empowering that it is being offered by the US Military\, the US Veteran’s Administration\, and companies like Google\, General Mills\, Intel\, Aetna\, Goldman Sachs\, AstraZeneca\, and The Johns Hopkins Hospital. \nLearn tools to: \n\nrelax the body and lower blood pressure;\ntrain for focus and attention\, building gray matter in 8 key areas of your brain;\nimprove sleep;\nbe with physical pain\, often reducing or eliminating it;\ncalm anxiety\, fear\, uncertainty\, hurt\, and other difficult emotions;\nquestion and release unhelpful thoughts.\n\n\n\n\nIN PERSON\n• Wednesdays\, April 8 – May 5\n• 6:00 – 7:30 pm CT \nRegister Here: https://www.tfaforms.com/4749944?tfa_1887=a0VPn00000On4sg&tfa_1910=a0TPn00001OVgl9
URL:https://mhahouston.org/event/wellness-2026-practices-for-physical-mental-and-emotional-resilience-2/2026-04-15/
ATTACH;FMTTYPE=image/jpeg:https://mhahouston.org/wp-content/uploads/2026/01/beach-meditate.jpg
END:VEVENT
BEGIN:VEVENT
DTSTART;TZID=UTC:20260420T180000
DTEND;TZID=UTC:20260512T193000
DTSTAMP:20260425T024317
CREATED:20260217T214946Z
LAST-MODIFIED:20260317T035325Z
UID:10000841-1776708000-1778614200@mhahouston.org
SUMMARY:Wellness 2026: Practices for Physical\, Mental\, and Emotional Resilience (Virtual)
DESCRIPTION:This 5-week series meets virtually for 90 minutes weekly for interactive\, experiential lessons based on scientific research supporting the benefits of mindfulness.  Mindfulness has been found to be so empowering that it is being offered by the US Military\, the US Veteran’s Administration\, and companies like Google\, General Mills\, Intel\, Aetna\, Goldman Sachs\, AstraZeneca\, and The Johns Hopkins Hospital. \nLearn tools to: \n\nrelax the body and lower blood pressure;\ntrain for focus and attention\, building gray matter in 8 key areas of your brain;\nimprove sleep;\nbe with physical pain\, often reducing or eliminating it;\ncalm anxiety\, fear\, uncertainty\, hurt\, and other difficult emotions;\nquestion and release unhelpful thoughts.\n\n\n\n\nONLINE\n• Mondays\, April 13 – May 1\n• 6:00 – 7:30 pm CT \nRegister Here: https://www.tfaforms.com/4749944?tfa_1910=a0TPn00001OYoqb
URL:https://mhahouston.org/event/wellness-2026-practices-for-physical-mental-and-emotional-resilience/2026-04-20/
CATEGORIES:Training
ATTACH;FMTTYPE=image/jpeg:https://mhahouston.org/wp-content/uploads/2026/01/beach-meditate.jpg
END:VEVENT
BEGIN:VEVENT
DTSTART;TZID=UTC:20260422T180000
DTEND;TZID=UTC:20260519T193000
DTSTAMP:20260425T024317
CREATED:20260114T224925Z
LAST-MODIFIED:20260217T215319Z
UID:10000827-1776880800-1779219000@mhahouston.org
SUMMARY:Wellness 2026: Practices for Physical\, Mental\, and Emotional Resilience (In Person)
DESCRIPTION:This 5-week series meets 90 minutes weekly in person for interactive\, experiential lessons based on scientific research supporting the benefits of mindfulness.  Mindfulness has been found to be so empowering that it is being offered by the US Military\, the US Veteran’s Administration\, and companies like Google\, General Mills\, Intel\, Aetna\, Goldman Sachs\, AstraZeneca\, and The Johns Hopkins Hospital. \nLearn tools to: \n\nrelax the body and lower blood pressure;\ntrain for focus and attention\, building gray matter in 8 key areas of your brain;\nimprove sleep;\nbe with physical pain\, often reducing or eliminating it;\ncalm anxiety\, fear\, uncertainty\, hurt\, and other difficult emotions;\nquestion and release unhelpful thoughts.\n\n\n\n\nIN PERSON\n• Wednesdays\, April 8 – May 5\n• 6:00 – 7:30 pm CT \nRegister Here: https://www.tfaforms.com/4749944?tfa_1887=a0VPn00000On4sg&tfa_1910=a0TPn00001OVgl9
URL:https://mhahouston.org/event/wellness-2026-practices-for-physical-mental-and-emotional-resilience-2/2026-04-22/
ATTACH;FMTTYPE=image/jpeg:https://mhahouston.org/wp-content/uploads/2026/01/beach-meditate.jpg
END:VEVENT
END:VCALENDAR